BEGIN:VCALENDAR
PRODID:NingEventWidget-v1
VERSION:2.0
METHOD:PUBLISH
BEGIN:VTIMEZONE
TZID:America/Los_Angeles
X-LIC-LOCATION:America/Los_Angeles
BEGIN:DAYLIGHT
TZOFFSETFROM:-0800
TZOFFSETTO:-0700
TZNAME:PDT
DTSTART:19700308T020000
RRULE:FREQ=YEARLY;BYMONTH=3;BYDAY=2SU
END:DAYLIGHT
BEGIN:STANDARD
TZOFFSETFROM:-0700
TZOFFSETTO:-0800
TZNAME:PST
DTSTART:19701101T020000
RRULE:FREQ=YEARLY;BYMONTH=11;BYDAY=1SU
END:STANDARD
END:VTIMEZONE
BEGIN:VEVENT
UID:1464587:Event:228446
DTSTAMP:20260421T072308Z
SUMMARY:Iration (CHICAGO)
DESCRIPTION:\nBottom LoungeChicago, IL05:00 PM\n\nIration with Specia
 l Guests Through the Roots / Fortunate YouthDetails: Iration, Through
  the Roots, Fortunate Youth, more...\nFind Tickets »on TicketWeb\n
 \n\n\n\nFor more information visit https://trueskool.com/events/iratio
 n-chicago
DTSTART;TZID=America/Los_Angeles:20130816T170000
DTEND;TZID=America/Los_Angeles:20130816T230000
CATEGORIES:chicago, il
LOCATION:Bottom Lounge, Chicago
WEBSITE:http://www.ticketweb.com/t3/sale/SaleEventDetail?dispatch=load
 SelectionData&eventId=3649654&REFERRAL_ID=tmfeed&crosssite=TM_US:12539
 46:339687
URL:http://www.ticketweb.com/t3/sale/SaleEventDetail?dispatch=loadSele
 ctionData&eventId=3649654&REFERRAL_ID=tmfeed&crosssite=TM_US:1253946:3
 39687
CONTACT:
ORGANIZER;CN="Editor's Pick":https://trueskool.com/profile/RentheVinyl
 Archaeologist
ATTACH;FMTTYPE="image/jpeg":http://storage.ning.com/topology/rest/1.0/
 file/get/2247944061?profile=original
ATTENDEE;ROLE=REQ-PARTICIPANT;PARTSTAT=ACCEPTED;RSVP=TRUE;CN="Editor's
  Pick":https://trueskool.com/profile/RentheVinylArchaeologist
END:VEVENT
END:VCALENDAR
