BEGIN:VCALENDAR
PRODID:NingEventWidget-v1
VERSION:2.0
METHOD:PUBLISH
BEGIN:VTIMEZONE
TZID:America/Los_Angeles
X-LIC-LOCATION:America/Los_Angeles
BEGIN:DAYLIGHT
TZOFFSETFROM:-0800
TZOFFSETTO:-0700
TZNAME:PDT
DTSTART:19700308T020000
RRULE:FREQ=YEARLY;BYMONTH=3;BYDAY=2SU
END:DAYLIGHT
BEGIN:STANDARD
TZOFFSETFROM:-0700
TZOFFSETTO:-0800
TZNAME:PST
DTSTART:19701101T020000
RRULE:FREQ=YEARLY;BYMONTH=11;BYDAY=1SU
END:STANDARD
END:VTIMEZONE
BEGIN:VEVENT
UID:1464587:Event:37039
DTSTAMP:20260420T230443Z
SUMMARY:Intensified! Reggae, Rocksteady, & Ska Vinyl
DESCRIPTION:Vintage Ska, Rocksteady, & Reggae Vinyl Selections! Intens
 ified at The Casanova Lounge\nWith Resident Selectors: Paul Paul & Dr.
  Scott with Special Guest Mr. Ryha!!\n10PM-2AM\nFree!\n21 and up\n\n\n
 \nFor more information visit https://trueskool.com/events/intensified-
 reggae-rocksteady
DTSTART;TZID=America/Los_Angeles:20090805T220000
DTEND;TZID=America/Los_Angeles:20090806T020000
CATEGORIES:reggae, rocksteady, dub, ska
LOCATION:Casanova Lounge
WEBSITE:http://www.casanovasf.com
URL:http://www.casanovasf.com
CONTACT:
ORGANIZER;CN="SF Vintage Reggae Society":https://trueskool.com/profile
 /SFVintageReggaeSociety
ATTACH;FMTTYPE="image/jpeg":http://storage.ning.com/topology/rest/1.0/
 file/get/2247862458?profile=original
ATTENDEE;ROLE=REQ-PARTICIPANT;PARTSTAT=ACCEPTED;RSVP=TRUE;CN="SF Vinta
 ge Reggae Society":https://trueskool.com/profile/SFVintageReggaeSociet
 y
END:VEVENT
END:VCALENDAR
