BEGIN:VCALENDAR
PRODID:NingEventWidget-v1
VERSION:2.0
METHOD:PUBLISH
BEGIN:VTIMEZONE
TZID:America/Los_Angeles
X-LIC-LOCATION:America/Los_Angeles
BEGIN:DAYLIGHT
TZOFFSETFROM:-0800
TZOFFSETTO:-0700
TZNAME:PDT
DTSTART:19700308T020000
RRULE:FREQ=YEARLY;BYMONTH=3;BYDAY=2SU
END:DAYLIGHT
BEGIN:STANDARD
TZOFFSETFROM:-0700
TZOFFSETTO:-0800
TZNAME:PST
DTSTART:19701101T020000
RRULE:FREQ=YEARLY;BYMONTH=11;BYDAY=1SU
END:STANDARD
END:VTIMEZONE
BEGIN:VEVENT
UID:1464587:Event:70065
DTSTAMP:20260420T130818Z
SUMMARY:Inspectah Deck & Masta Killah
DESCRIPTION:CLICK HERE TO WIN A PAIR OF TICKETS:\nhttp://www.trueskool
 .com/group/wintickets\n\n\nFRIDAY, NOVEMBER 19\nAlchemetric Production
 s, Explosive Entertainment & Impala SF present\nInspectah Deck\nMasta 
 Killah\n\nLive in the mix:\nKevvy Kev & Ari Why\n\nHosted by:\nFlossaf
 ee & Mandeep Sethi\n\n@ Impala, 501 Broadway St., SF\nDoors open at 8p
 m. $10 presale\nPurchase Tix: http://www.impalasf.com\nBottle Service 
 415-982-5299\n \n\nFor more information visit https://trueskool.com/ev
 ents/inspectah-deck-masta-killah
DTSTART;TZID=America/Los_Angeles:20101119T200000
DTEND;TZID=America/Los_Angeles:20101120T020000
CATEGORIES:bay, area, san, francisco, ca
LOCATION:Impala, San Francisco, CA
WEBSITE:http://www.impalasf.com
URL:http://www.impalasf.com
CONTACT:
ORGANIZER:Alchemetric Productions, Explosive Entertainment & Impala SF
ATTACH;FMTTYPE="image/jpeg":http://storage.ning.com/topology/rest/1.0/
 file/get/2247886668?profile=original
ATTENDEE;ROLE=REQ-PARTICIPANT;PARTSTAT=ACCEPTED;RSVP=TRUE;CN="Ren the 
 Vinyl Archaeologist":https://trueskool.com/profile/xh51jvilojur
END:VEVENT
END:VCALENDAR
