BEGIN:VCALENDAR
PRODID:NingEventWidget-v1
VERSION:2.0
METHOD:PUBLISH
BEGIN:VTIMEZONE
TZID:America/Los_Angeles
X-LIC-LOCATION:America/Los_Angeles
BEGIN:DAYLIGHT
TZOFFSETFROM:-0800
TZOFFSETTO:-0700
TZNAME:PDT
DTSTART:19700308T020000
RRULE:FREQ=YEARLY;BYMONTH=3;BYDAY=2SU
END:DAYLIGHT
BEGIN:STANDARD
TZOFFSETFROM:-0700
TZOFFSETTO:-0800
TZNAME:PST
DTSTART:19701101T020000
RRULE:FREQ=YEARLY;BYMONTH=11;BYDAY=1SU
END:STANDARD
END:VTIMEZONE
BEGIN:VEVENT
UID:1464587:Event:41569
DTSTAMP:20260421T140218Z
SUMMARY:Infatuation Featuring RJD2 (Philadephia) & Trackademicks
DESCRIPTION:\nInfatuation\nFeaturing RJD2 (Philadephia) & Trackademick
 s\nOriginally working the role of DJ in the Columbus rap group MHz, he
  later signed to Bobbito Garcia's Fondle 'Em label, releasing the self
 -proclaimed \"mix CD\" Your Face or Your Kneecaps. A year later he sig
 ned to El-P's record label Definitive Jux and released his solo debut 
 album Deadringer to much acclaim. Rjd2 later collaborated with Columbu
 s rapper Blueprint under the name Soul Position, releasing Unlimited E
 P in 2002 and 8 Million Stories in 2003. He released his second solo a
 lbum Since We Last Spoke on Definitive Jux in 2004 and released Soul P
 osition's second album Things Go Better with RJ and AL in 2006 under R
 hymesayers Entertainment label. He still continues to produce tracks, 
 working with many independent rappers, such as Copywrite, Cunninlyngui
 sts, Cage, MF DOOM, Diverse and Aceyalone. He contributed a cover of \
 "Airbag\" by Radiohead for the 2006 album \"Exit Music\". He has recen
 tly announced that he has left Def Jux and will be going for more of a
  'pop route'. RJD2 has a new track called \"Christmas Eve Montage\" fr
 om the new Nightmare Before Christmas album \"Nightmare Revisited,\" a
 nd has a new album slated for this year!\n\nSupport: Dj Centipede\n\n@
  Vessel, 85 Campton Place, San Francisco\nPresale Tickets $10\nhttp://
 sanfrancisco.going.com/vslrjd2trakademicks2\nhttp://www.vesselsf.com f
 or more info\n2-4-1 Well Drinks & Dos Equis All Night\nHerradura Tasin
 g 10-11pm - $150 Ketel One Bottle\n\n\nFor more information visit http
 s://trueskool.com/events/infatuation-featuring-rjd2
DTSTART;TZID=America/Los_Angeles:20091014T210000
DTEND;TZID=America/Los_Angeles:20091015T020000
CATEGORIES:hip, hop, electro
LOCATION:Vessel, San Francisco, CA
WEBSITE:http://sanfrancisco.going.com/vslrjd2trakademicks2
URL:http://sanfrancisco.going.com/vslrjd2trakademicks2
CONTACT:
ORGANIZER:Vessel
ATTACH;FMTTYPE="image/jpeg":http://storage.ning.com/topology/rest/1.0/
 file/get/2247865913?profile=original
ATTENDEE;ROLE=REQ-PARTICIPANT;PARTSTAT=ACCEPTED;RSVP=TRUE;CN="Ren the 
 Vinyl Archaeologist":https://trueskool.com/profile/xh51jvilojur
END:VEVENT
END:VCALENDAR
