BEGIN:VCALENDAR
PRODID:NingEventWidget-v1
VERSION:2.0
METHOD:PUBLISH
BEGIN:VTIMEZONE
TZID:America/Los_Angeles
X-LIC-LOCATION:America/Los_Angeles
BEGIN:DAYLIGHT
TZOFFSETFROM:-0800
TZOFFSETTO:-0700
TZNAME:PDT
DTSTART:19700308T020000
RRULE:FREQ=YEARLY;BYMONTH=3;BYDAY=2SU
END:DAYLIGHT
BEGIN:STANDARD
TZOFFSETFROM:-0700
TZOFFSETTO:-0800
TZNAME:PST
DTSTART:19701101T020000
RRULE:FREQ=YEARLY;BYMONTH=11;BYDAY=1SU
END:STANDARD
END:VTIMEZONE
BEGIN:VEVENT
UID:1464587:Event:39040
DTSTAMP:20260421T064640Z
SUMMARY:Independent Artists' Week (Sept. 6-13)
DESCRIPTION:\n\n\n\n\n\nLabor Day Opening Celebration\nSunday, Septemb
 er 6, 2009\nYoshi’s SF , 1330 Fillmore St @ Eddy, 7pm-10pm, *$5-$10 
 sliding scale Let’s kick off Independent Artists’ Week together at
  Yoshi’s! Food, Live Music, Exclusive SF Film Premiere and More!\n\n
 Labor Day Celebration and Mixer\nMonday, September 7, 2009\nFillmore C
 enter Plaza, 12noon-4pm, FREE Celebrate our LABOR of LOVE with Great M
 usic, Live Art, and More!\nOpportunity Day – “Opportunity Knocks
 \nTuesday, September 8, 2009\n\nYoshi’s SF , 1330 Fillmore St. @ Ed
 dy, 6pm- 8pm, *$5-$10 sliding scale Don’t miss an evening where you 
 receive 15 minutes to get the answers you deserve from: Entertainment 
 Lawyers, Licensing Pros, Distributors and more!\nGo Green – “Art B
 enefits…”\nWednesday, September 9, 2009\nHarput’s Market (Fillmo
 re Center), 1527 Fillmore St. @ O’Farrell St., 5pm-8pm, FREE This is
  an ECO empowering event that also incorporates our “Art Benefits…
 ” program. LIVE ECO Art Demonstrations, presentations from Green Art
  companies and more!\nBYOA Live – “All the Way LIVE”\nThursday, 
 September 10, 2009\n\nFillmore Center, 7pm-10pm, $5 If it’s not live
 , it’s not happening this night. Bring Your Own Art, as long as you 
 create LIVE!\nThank You – Honoring Local Artists Who Make a Global I
 mpact\nFriday, September 11, 2009\nThe Jazz Heritage Center-Lush Life 
 Gallery, 1320 Fillmore St. @ Eddy St., 7pm- 9pm, *$5-$10 Join us in sa
 ying “Thank You” to 8 Bay Area artists for all they do to represen
 t the Bay Area in the Arts.\nMusic ‘n Film Conference – Artology\n
 \nSaturday, September 12, 2009\nJazz Heritage Center Media Room, 1330 
 Fillmore St. @ Eddy (Yoshi’s SF Lounge), 12noon- 2pm, $3 Join us as 
 we explore ART and TECHNOLOGY. First panel focuses on a local film and
  music studio. The second panel explores art in the mobile industry.\n
 \nFor more information visit https://trueskool.com/events/independent-
 artists-week-sept
DTSTART;TZID=America/Los_Angeles:20090906T190000
DTEND;TZID=America/Los_Angeles:20090912T230000
CATEGORIES:art, music, film, independent
LOCATION:Fillmore, San Francisco, CA
WEBSITE:http://www.iawsf.wordpress.com
URL:http://www.iawsf.wordpress.com
CONTACT:
ORGANIZER:Infin8 Sync, LLC
ATTACH;FMTTYPE="image/jpeg":http://storage.ning.com/topology/rest/1.0/
 file/get/2106897182?profile=original
ATTENDEE;ROLE=REQ-PARTICIPANT;PARTSTAT=ACCEPTED;RSVP=TRUE;CN="The Home
 y Nick Nolte":https://trueskool.com/profile/TheHomeyNickNolte
ATTENDEE;ROLE=REQ-PARTICIPANT;PARTSTAT=ACCEPTED;RSVP=TRUE;CN="Ren the 
 Vinyl Archaeologist":https://trueskool.com/profile/xh51jvilojur
ATTENDEE;ROLE=REQ-PARTICIPANT;PARTSTAT=TENTATIVE;RSVP=TRUE;CN=BellaCha
 os:https://trueskool.com/profile/BellaChaos
END:VEVENT
END:VCALENDAR
