BEGIN:VCALENDAR
PRODID:NingEventWidget-v1
VERSION:2.0
METHOD:PUBLISH
BEGIN:VTIMEZONE
TZID:America/Los_Angeles
X-LIC-LOCATION:America/Los_Angeles
BEGIN:DAYLIGHT
TZOFFSETFROM:-0800
TZOFFSETTO:-0700
TZNAME:PDT
DTSTART:19700308T020000
RRULE:FREQ=YEARLY;BYMONTH=3;BYDAY=2SU
END:DAYLIGHT
BEGIN:STANDARD
TZOFFSETFROM:-0700
TZOFFSETTO:-0800
TZNAME:PST
DTSTART:19701101T020000
RRULE:FREQ=YEARLY;BYMONTH=11;BYDAY=1SU
END:STANDARD
END:VTIMEZONE
BEGIN:VEVENT
UID:1464587:Event:68976
DTSTAMP:20260420T180811Z
SUMMARY:IN FLEX WE TRUST.COM PRESENTS: JOEL ORTIZ, J MILLS, MAINO & MA
 NY MORE
DESCRIPTION:Mon, 11/22/10\nIN FLEX WE TRUST.COM PRESENTS: JOEL ORTIZ, 
 J MILLS, MAINO & MANY MORE\n\nB.B. King Blues Club and Grill\n237 West
  42nd Street, New York, NY 10036\n10:30 PM\nFind Tickets\n \n\nFor mor
 e information visit https://trueskool.com/events/in-flex-we-trustcom-p
 resents
DTSTART;TZID=America/Los_Angeles:20101122T223000
DTEND;TZID=America/Los_Angeles:20101123T030000
CATEGORIES:new, york, ny
LOCATION:B.B. King Blues Club and Grill
WEBSITE:http://www.ticketmaster.com/event/00004559E36B9D9C?artistid=12
 82810&majorcatid=10001&minorcatid=3
URL:http://www.ticketmaster.com/event/00004559E36B9D9C?artistid=128281
 0&majorcatid=10001&minorcatid=3
CONTACT:
ORGANIZER:B.B. King Blues Club and Grill
ATTACH;FMTTYPE="image/jpeg":http://storage.ning.com/topology/rest/1.0/
 file/get/2247885876?profile=original
ATTENDEE;ROLE=REQ-PARTICIPANT;PARTSTAT=ACCEPTED;RSVP=TRUE;CN="Editor's
  Pick":https://trueskool.com/profile/RentheVinylArchaeologist
END:VEVENT
END:VCALENDAR
