BEGIN:VCALENDAR
PRODID:NingEventWidget-v1
VERSION:2.0
METHOD:PUBLISH
BEGIN:VTIMEZONE
TZID:America/Los_Angeles
X-LIC-LOCATION:America/Los_Angeles
BEGIN:DAYLIGHT
TZOFFSETFROM:-0800
TZOFFSETTO:-0700
TZNAME:PDT
DTSTART:19700308T020000
RRULE:FREQ=YEARLY;BYMONTH=3;BYDAY=2SU
END:DAYLIGHT
BEGIN:STANDARD
TZOFFSETFROM:-0700
TZOFFSETTO:-0800
TZNAME:PST
DTSTART:19701101T020000
RRULE:FREQ=YEARLY;BYMONTH=11;BYDAY=1SU
END:STANDARD
END:VTIMEZONE
BEGIN:VEVENT
UID:1464587:Event:42483
DTSTAMP:20260421T125402Z
SUMMARY:Immortal Technique @ Shattuck Down Low
DESCRIPTION:Check out a rare East Bay appearance for Immortal Techniqu
 e.\n\nHe will performing live at the Shattuck Down Low November 5th.\n
 \nGet tickets now: http://ineffablerecords.inticketing.com/events/4880
 3/IMMORTAL-TECHNIQUE\n\nThursday, November 5, 2009 at 8:00pm\n\nShattu
 ck Down Low\n2284 shattuck ave.\nBerkeley, CA\n\nFor more information 
 visit https://trueskool.com/events/immortal-technique-shattuck
DTSTART;TZID=America/Los_Angeles:20091105T210000
DTEND;TZID=America/Los_Angeles:20091106T020000
CATEGORIES:hip, hop
LOCATION:Shattuck Down Low, Berkeley, CA
WEBSITE:http://www.myspace.com/ineffablemusicgroup
URL:http://www.myspace.com/ineffablemusicgroup
CONTACT:5105481159
ORGANIZER;CN=IneffableMusicGroup:https://trueskool.com/profile/Ineffab
 leMusicGroup
ATTACH;FMTTYPE="image/jpeg":http://storage.ning.com/topology/rest/1.0/
 file/get/2247868623?profile=original
ATTENDEE;ROLE=REQ-PARTICIPANT;PARTSTAT=ACCEPTED;RSVP=TRUE;CN=Ineffable
 MusicGroup:https://trueskool.com/profile/IneffableMusicGroup
END:VEVENT
END:VCALENDAR
