BEGIN:VCALENDAR
PRODID:NingEventWidget-v1
VERSION:2.0
METHOD:PUBLISH
BEGIN:VTIMEZONE
TZID:America/Los_Angeles
X-LIC-LOCATION:America/Los_Angeles
BEGIN:DAYLIGHT
TZOFFSETFROM:-0800
TZOFFSETTO:-0700
TZNAME:PDT
DTSTART:19700308T020000
RRULE:FREQ=YEARLY;BYMONTH=3;BYDAY=2SU
END:DAYLIGHT
BEGIN:STANDARD
TZOFFSETFROM:-0700
TZOFFSETTO:-0800
TZNAME:PST
DTSTART:19701101T020000
RRULE:FREQ=YEARLY;BYMONTH=11;BYDAY=1SU
END:STANDARD
END:VTIMEZONE
BEGIN:VEVENT
UID:1464587:Event:42486
DTSTAMP:20260421T094520Z
SUMMARY:Immortal Technique @ Avalon Night Club
DESCRIPTION:Immortal Technique\nDiabolic\nPoison Pen\nSwave Sevah\n\nl
 ive at The Avalon\n777 Lawrence Expy.\nSanta Clara, CA\n\n$17 adv | do
 ors at 8 pm | all ages\n\nGet tickets now at http://ineffablerecords.i
 nticketing.com/events/48804/IMMORTAL-TECHNIQUE.\n\nFor more informatio
 n visit https://trueskool.com/events/immortal-technique-avalon
DTSTART;TZID=America/Los_Angeles:20091106T200000
DTEND;TZID=America/Los_Angeles:20091107T020000
CATEGORIES:hip, hop
LOCATION:Avalon Night Club, Santa Clara, CA
WEBSITE:http://www.myspace.com/ineffablemusicgroup
URL:http://www.myspace.com/ineffablemusicgroup
CONTACT:510 705 1151
ORGANIZER;CN=IneffableMusicGroup:https://trueskool.com/profile/Ineffab
 leMusicGroup
ATTACH;FMTTYPE="image/jpeg":http://storage.ning.com/topology/rest/1.0/
 file/get/2247868867?profile=original
ATTENDEE;ROLE=REQ-PARTICIPANT;PARTSTAT=ACCEPTED;RSVP=TRUE;CN=Ineffable
 MusicGroup:https://trueskool.com/profile/IneffableMusicGroup
END:VEVENT
END:VCALENDAR
