BEGIN:VCALENDAR
PRODID:NingEventWidget-v1
VERSION:2.0
METHOD:PUBLISH
BEGIN:VTIMEZONE
TZID:America/Los_Angeles
X-LIC-LOCATION:America/Los_Angeles
BEGIN:DAYLIGHT
TZOFFSETFROM:-0800
TZOFFSETTO:-0700
TZNAME:PDT
DTSTART:19700308T020000
RRULE:FREQ=YEARLY;BYMONTH=3;BYDAY=2SU
END:DAYLIGHT
BEGIN:STANDARD
TZOFFSETFROM:-0700
TZOFFSETTO:-0800
TZNAME:PST
DTSTART:19701101T020000
RRULE:FREQ=YEARLY;BYMONTH=11;BYDAY=1SU
END:STANDARD
END:VTIMEZONE
BEGIN:VEVENT
UID:1464587:Event:280933
DTSTAMP:20260421T145354Z
SUMMARY:illuminaries art show (w/ DJ Bluz)
DESCRIPTION:Join us Friday, December 13th for our very first Illuminar
 ies art show featuring new artwork, limited edition posters, postcards
 , and T-shirts. Be the first to see Illuminaries in rare form. Next do
 or Cukui, will be having an artshow with the ill Sam Rodriguez as well
 . It's like a mini art walk!\n\nLocation: 2twenty5Address: 225 Jackson
  Street, San Jose, CATime: 6pm-10pmMusic by: Brian Bluz Lu (https://
 soundcloud.com/djbluz)Price: Free and family friendly\n\n\nWho are Ill
 uminaries?\n\nThe Illuminaries are Steve Ha (http://www.flavorinnovato
 r.com) and Tim Hon (http://www.krupt.com). Most notably recognized for
  their work with Vernon Davis and the San Francisco 49ers. They have b
 een on a mission blessing walls in San Francisco, Berkeley, and Los An
 geles. With an extensive background in graffiti and graphic design the
 y specialize in high impact, energizing decor wrapped in custom unique
 ly crafted frames. Their passion is improving indoor and outdoor space
 s with the creative use of traditional or digital mediums.\n\n\n\n\n\n
 Free art print giveaways while you vibe out to the funky soulful beats
  spun by DJ Bluz. 10 prints will be raffled off to the first 50 visito
 rs.\n\n\n\n\n\nhttp://www.illuminaries.net\n\n#illuminariesartshow\n\n
 \n\n\n\nFor more information visit https://trueskool.com/events/illumi
 naries-art-show-w-dj-bluz
DTSTART;TZID=America/Los_Angeles:20131213T180000
DTEND;TZID=America/Los_Angeles:20131213T210000
CATEGORIES:"san jose", "east bay", "bay area"
LOCATION:2twenty5
WEBSITE:https://www.facebook.com/events/547284782027270/
URL:https://www.facebook.com/events/547284782027270/
CONTACT:
ORGANIZER;CN="Steve Ha":https://trueskool.com/profile/SteveHa
ATTACH;FMTTYPE="image/jpeg":http://storage.ning.com/topology/rest/1.0/
 file/get/2247953438?profile=original
ATTENDEE;ROLE=REQ-PARTICIPANT;PARTSTAT=ACCEPTED;RSVP=TRUE;CN="Steve Ha
 ":https://trueskool.com/profile/SteveHa
END:VEVENT
END:VCALENDAR
