BEGIN:VCALENDAR
PRODID:NingEventWidget-v1
VERSION:2.0
METHOD:PUBLISH
BEGIN:VTIMEZONE
TZID:America/Los_Angeles
X-LIC-LOCATION:America/Los_Angeles
BEGIN:DAYLIGHT
TZOFFSETFROM:-0800
TZOFFSETTO:-0700
TZNAME:PDT
DTSTART:19700308T020000
RRULE:FREQ=YEARLY;BYMONTH=3;BYDAY=2SU
END:DAYLIGHT
BEGIN:STANDARD
TZOFFSETFROM:-0700
TZOFFSETTO:-0800
TZNAME:PST
DTSTART:19701101T020000
RRULE:FREQ=YEARLY;BYMONTH=11;BYDAY=1SU
END:STANDARD
END:VTIMEZONE
BEGIN:VEVENT
UID:1464587:Event:631632
DTSTAMP:20260422T002922Z
SUMMARY:Illadelph Legends of Hip Hop Bay Area Festival
DESCRIPTION:Illadelph Legends presents virtuosic hip hop dance pionee
 rs and trailblazers who bridge underground traditions with concert dan
 ce, performance art, and theater.   Meet innovators and cultural pres
 ervationists sharing the history of hip hop dance styles and their glo
 bal impact.  Come join us for four days of classes, panel discussions
  and performances with hip hop icons from around the country!  \n\nww
 w.embodimentproject.org\n\nFor more information visit https://trueskoo
 l.com/events/illadelph-legends-of-hip-hop-bay-area-festival
DTSTART;TZID=America/Los_Angeles:20150625T190000
DTEND;TZID=America/Los_Angeles:20150628T183000
CATEGORIES:"destiny arts center"
LOCATION:Destiny Arts Center, Oakland
WEBSITE:http://www.eventbrite.com/e/illadelph-legends-of-hip-hop-festi
 val-bay-area-2015-tickets-16420503167
URL:http://www.eventbrite.com/e/illadelph-legends-of-hip-hop-festival-
 bay-area-2015-tickets-16420503167
CONTACT:4136956478
ORGANIZER;CN="Embodiment Project":https://trueskool.com/profile/Nichol
 asMatthewBrentley
ATTACH;FMTTYPE="image/jpeg":
ATTENDEE;ROLE=REQ-PARTICIPANT;PARTSTAT=ACCEPTED;RSVP=TRUE;CN="Embodime
 nt Project":https://trueskool.com/profile/NicholasMatthewBrentley
END:VEVENT
END:VCALENDAR
