BEGIN:VCALENDAR
PRODID:NingEventWidget-v1
VERSION:2.0
METHOD:PUBLISH
BEGIN:VTIMEZONE
TZID:America/Los_Angeles
X-LIC-LOCATION:America/Los_Angeles
BEGIN:DAYLIGHT
TZOFFSETFROM:-0800
TZOFFSETTO:-0700
TZNAME:PDT
DTSTART:19700308T020000
RRULE:FREQ=YEARLY;BYMONTH=3;BYDAY=2SU
END:DAYLIGHT
BEGIN:STANDARD
TZOFFSETFROM:-0700
TZOFFSETTO:-0800
TZNAME:PST
DTSTART:19701101T020000
RRULE:FREQ=YEARLY;BYMONTH=11;BYDAY=1SU
END:STANDARD
END:VTIMEZONE
BEGIN:VEVENT
UID:1464587:Event:830547
DTSTAMP:20260421T171007Z
SUMMARY:ICE SPICE
DESCRIPTION:ICE SPICE\r\nWednesday, August 21, 2024 Doors: 6:30pm | Sh
 ow: 7:30pm\r\nFox Theater 1807 Telegraph Ave, Oakland, CA 94612\n\nFor
  more information visit https://trueskool.com/events/ice-spice
DTSTART;TZID=America/Los_Angeles:20240821T193000
DTEND;TZID=America/Los_Angeles:20240821T233000
CATEGORIES:"bay area", oakland, "san francisco", "san jose", berkeley
LOCATION:Fox Theater - Oakland
WEBSITE:https://apeconcerts.com/events/ice-spice-240821/
URL:https://apeconcerts.com/events/ice-spice-240821/
CONTACT:
ORGANIZER;CN="Editor's Pick":https://trueskool.com/profile/RentheVinyl
 Archaeologist
ATTACH;FMTTYPE="image/jpeg":https://storage.ning.com/topology/rest/1.0
 /file/get/12672557081?profile=original
ATTENDEE;ROLE=REQ-PARTICIPANT;PARTSTAT=ACCEPTED;RSVP=TRUE;CN="Editor's
  Pick":https://trueskool.com/profile/RentheVinylArchaeologist
END:VEVENT
END:VCALENDAR
