BEGIN:VCALENDAR
PRODID:NingEventWidget-v1
VERSION:2.0
METHOD:PUBLISH
BEGIN:VTIMEZONE
TZID:America/Los_Angeles
X-LIC-LOCATION:America/Los_Angeles
BEGIN:DAYLIGHT
TZOFFSETFROM:-0800
TZOFFSETTO:-0700
TZNAME:PDT
DTSTART:19700308T020000
RRULE:FREQ=YEARLY;BYMONTH=3;BYDAY=2SU
END:DAYLIGHT
BEGIN:STANDARD
TZOFFSETFROM:-0700
TZOFFSETTO:-0800
TZNAME:PST
DTSTART:19701101T020000
RRULE:FREQ=YEARLY;BYMONTH=11;BYDAY=1SU
END:STANDARD
END:VTIMEZONE
BEGIN:VEVENT
UID:1464587:Event:810219
DTSTAMP:20260421T110100Z
SUMMARY:IBIBIO SOUND MACHINE
DESCRIPTION:IBIBIO SOUND MACHINE Terror Jr.\r\nWednesday, October 05, 
 2022 Doors: 7:30pm | Show: 8:00pm\r\nThe Independent 628 Divisadero St
 ,  San Francisco, CA 94117\r\nThis event is 21 and over.\r\n$25.00 –
  General Admission\n\nFor more information visit https://trueskool.com
 /events/ibibio-sound-machine-1
DTSTART;TZID=America/Los_Angeles:20221005T180000
DTEND;TZID=America/Los_Angeles:20221005T190000
CATEGORIES:"bay area", oakland, "san francisco", "san jose", berkeley
LOCATION:The Independent, San Francisco
WEBSITE:https://www.ticketweb.com/event/ibibio-sound-machine-the-indep
 endent-tickets/12181555?pl=independentsf&amp;REFID=clientsitewp?camefr
 om=CFC_ANOTHERPLANET_web&amp;brand=anotherplanet
URL:https://www.ticketweb.com/event/ibibio-sound-machine-the-independe
 nt-tickets/12181555?pl=independentsf&amp;REFID=clientsitewp?camefrom=C
 FC_ANOTHERPLANET_web&amp;brand=anotherplanet
CONTACT:
ORGANIZER;CN="Editor's Pick":https://trueskool.com/profile/RentheVinyl
 Archaeologist
ATTACH;FMTTYPE="image/jpeg":https://storage.ning.com/topology/rest/1.0
 /file/get/10663208493?profile=original
ATTENDEE;ROLE=REQ-PARTICIPANT;PARTSTAT=ACCEPTED;RSVP=TRUE;CN="Editor's
  Pick":https://trueskool.com/profile/RentheVinylArchaeologist
END:VEVENT
END:VCALENDAR
