BEGIN:VCALENDAR
PRODID:NingEventWidget-v1
VERSION:2.0
METHOD:PUBLISH
BEGIN:VTIMEZONE
TZID:America/Los_Angeles
X-LIC-LOCATION:America/Los_Angeles
BEGIN:DAYLIGHT
TZOFFSETFROM:-0800
TZOFFSETTO:-0700
TZNAME:PDT
DTSTART:19700308T020000
RRULE:FREQ=YEARLY;BYMONTH=3;BYDAY=2SU
END:DAYLIGHT
BEGIN:STANDARD
TZOFFSETFROM:-0700
TZOFFSETTO:-0800
TZNAME:PST
DTSTART:19701101T020000
RRULE:FREQ=YEARLY;BYMONTH=11;BYDAY=1SU
END:STANDARD
END:VTIMEZONE
BEGIN:VEVENT
UID:1464587:Event:442265
DTSTAMP:20260421T003528Z
SUMMARY:Iamsu!, Sage the Gemini, Dom Kennedy
DESCRIPTION: Sat, Nov 1, 2014 \nGoldenvoice Presents\nIamsu!, Sage the
  Gemini, Dom Kennedy\nHeartbreak Halloween\nKool John, P-Lo, Jay Ant, 
 Skipper, Kehlani\nThe Warfield, 982 Market Street, San Francisco Ages:
  All Ages\nDoors Open: 7:00PM\nPrice: $30.00 - $45.00\nDoor Price: $35
 .00\nOnsale: Fri, Oct 10, 2014\n>> BUY TICKETS\n\n\nFor more informati
 on visit https://trueskool.com/events/iamsu-sage-the-gemini-dom-kenned
 y
DTSTART;TZID=America/Los_Angeles:20141101T190000
DTEND;TZID=America/Los_Angeles:20141101T230000
CATEGORIES:"bay area", "san francisco"
LOCATION:The Warfield, San Francisco
WEBSITE:http://www.axs.com/events/254919/iamsu-sage-the-gemini-dom-ken
 nedy-tickets
URL:http://www.axs.com/events/254919/iamsu-sage-the-gemini-dom-kennedy
 -tickets
CONTACT:
ORGANIZER:Goldenvoice
ATTACH;FMTTYPE="image/jpeg":http://storage.ning.com/topology/rest/1.0/
 file/get/2247968489?profile=original
ATTENDEE;ROLE=REQ-PARTICIPANT;PARTSTAT=ACCEPTED;RSVP=TRUE;CN="Staff Pi
 ck":https://trueskool.com/profile/Ren
END:VEVENT
END:VCALENDAR
