BEGIN:VCALENDAR
PRODID:NingEventWidget-v1
VERSION:2.0
METHOD:PUBLISH
BEGIN:VTIMEZONE
TZID:America/Los_Angeles
X-LIC-LOCATION:America/Los_Angeles
BEGIN:DAYLIGHT
TZOFFSETFROM:-0800
TZOFFSETTO:-0700
TZNAME:PDT
DTSTART:19700308T020000
RRULE:FREQ=YEARLY;BYMONTH=3;BYDAY=2SU
END:DAYLIGHT
BEGIN:STANDARD
TZOFFSETFROM:-0700
TZOFFSETTO:-0800
TZNAME:PST
DTSTART:19701101T020000
RRULE:FREQ=YEARLY;BYMONTH=11;BYDAY=1SU
END:STANDARD
END:VTIMEZONE
BEGIN:VEVENT
UID:1464587:Event:664009
DTSTAMP:20260421T094425Z
SUMMARY:Iamsu! (WIN TICKETS)
DESCRIPTION:ENTER TO WIN A PAIR OF TICKETS. WINNER WILL BE DRAWN RANDO
 MLY AND ANNOUNCED 2 DAYS PRIOR TO EVENT.\r\n\r\nSaturday, Sept 9\r\nIa
 msu!\r\nw/special guests\r\n\r\nAt The Fox Theater in Oakland, CA. 8:0
 0 PM\r\n>> BUY TICKETS\r\n\n\nFor more information visit https://trues
 kool.com/events/iamsu-1
DTSTART;TZID=America/Los_Angeles:20170909T200000
DTEND;TZID=America/Los_Angeles:20170909T230000
CATEGORIES:"san francisco", oakland, berkley, "san jose", "bay area"
LOCATION:Fox Theatre
WEBSITE:http://www.ticketmaster.com/event/1C0052B0EE8E6342?camefrom=CF
 C_ANOTHERPLANET_web&amp;amp;brand=anotherplanet
URL:http://www.ticketmaster.com/event/1C0052B0EE8E6342?camefrom=CFC_AN
 OTHERPLANET_web&amp;amp;brand=anotherplanet
CONTACT:510-302-2250
ORGANIZER;CN="Editor's Pick":https://trueskool.com/profile/RentheVinyl
 Archaeologist
ATTACH;FMTTYPE="image/jpeg":http://storage.ning.com/topology/rest/1.0/
 file/get/2247997413?profile=original
ATTENDEE;ROLE=REQ-PARTICIPANT;PARTSTAT=ACCEPTED;RSVP=TRUE;CN="Donte Ha
 rrison":https://trueskool.com/profile/DonteHarrison
ATTENDEE;ROLE=REQ-PARTICIPANT;PARTSTAT=ACCEPTED;RSVP=TRUE;CN="Editor's
  Pick":https://trueskool.com/profile/RentheVinylArchaeologist
ATTENDEE;ROLE=REQ-PARTICIPANT;PARTSTAT=ACCEPTED;RSVP=TRUE;CN="Elisa Bj
 eldanes":https://trueskool.com/profile/ElisaBjeldanes
END:VEVENT
END:VCALENDAR
