BEGIN:VCALENDAR
PRODID:NingEventWidget-v1
VERSION:2.0
METHOD:PUBLISH
BEGIN:VTIMEZONE
TZID:America/Los_Angeles
X-LIC-LOCATION:America/Los_Angeles
BEGIN:DAYLIGHT
TZOFFSETFROM:-0800
TZOFFSETTO:-0700
TZNAME:PDT
DTSTART:19700308T020000
RRULE:FREQ=YEARLY;BYMONTH=3;BYDAY=2SU
END:DAYLIGHT
BEGIN:STANDARD
TZOFFSETFROM:-0700
TZOFFSETTO:-0800
TZNAME:PST
DTSTART:19701101T020000
RRULE:FREQ=YEARLY;BYMONTH=11;BYDAY=1SU
END:STANDARD
END:VTIMEZONE
BEGIN:VEVENT
UID:1464587:Event:29123
DTSTAMP:20260420T230242Z
SUMMARY:I Shoot People (Opening Reception for photographer Trevor Tray
 nor)
DESCRIPTION:\nDSSF presents\n\"I Shoot People\"\n\nPhotographs by TREV
 OR TRAYNOR\n\nFirst Friday May 1st 8pm-11pm\n\nOpen Bar\n\nDJ Ren the 
 Vinyl Archaeologist\n\nPerformance by Richie Cunning and Melina Jones\
 n\nD-Structuresf 520 Haight st. @ Fillmore, San Francisco, CA 94117\nO
 pen Bar, FREE.\nRSVP to attend:\nhttp://sanfrancisco.going.com/event-5
 72142;Trevor_Traynor\n\nHere is some more info about the artist:\nD-St
 ructure SF are pleased to present I Shoot People – a collection of n
 ew works by San Francisco-based artist, Trevor Traynor.\n\nTrevor Tray
 nor was born in New York in 1979. He studied at the University of Colo
 rado in Boulder and after graduating in 2002 he explored the globe wit
 h a Hasselblad. For the next four years Trevor continued to create pro
 jects through his travels while doing editorial work in New York and s
 everal Art Fairs with Rx gallery in San Francisco. He currently lives 
 and works in San Francisco and New York.\n\nTraynor’s photographs ha
 ve been exhibited in Medellin, Paris, Santa Fe, New York, San Diego, D
 enver, and San Francisco. His work has been featured in many publicati
 ons including: Chicago Tribune, New York magazine, Men’s Fitness, SF
  Guardian, URB magazine, Merge magazine (Sweden), Lodown magazine (Ger
 many), and Kerb Journal (Australia). His work is part of several colle
 ctions; including Swinerton and Pfizer. He has also been recognized in
  competitions; including “industrial photographer of the year” at 
 the 1st International Photography Awards, & Honorable mention at the I
 nternational Adobe Photoshop competition.\n\nOfficial Site: http://www
 .d-structuresf.com\n\nFor more information visit https://trueskool.com
 /events/i-shoot-people-opening
DTSTART;TZID=America/Los_Angeles:20090501T200000
DTEND;TZID=America/Los_Angeles:20090501T230000
CATEGORIES:open, bar, art, opening, live, music, free
LOCATION:D-Structure, San Francisco
WEBSITE:http://sanfrancisco.going.com/event-572142;Trevor_Traynor
URL:http://sanfrancisco.going.com/event-572142;Trevor_Traynor
CONTACT:
ORGANIZER:DSSF
ATTACH;FMTTYPE="image/jpeg":http://storage.ning.com/topology/rest/1.0/
 file/get/2247855973?profile=original
ATTENDEE;ROLE=REQ-PARTICIPANT;PARTSTAT=ACCEPTED;RSVP=TRUE;CN="Ren the 
 Vinyl Archaeologist":https://trueskool.com/profile/xh51jvilojur
END:VEVENT
END:VCALENDAR
