BEGIN:VCALENDAR
PRODID:NingEventWidget-v1
VERSION:2.0
METHOD:PUBLISH
BEGIN:VTIMEZONE
TZID:America/Los_Angeles
X-LIC-LOCATION:America/Los_Angeles
BEGIN:DAYLIGHT
TZOFFSETFROM:-0800
TZOFFSETTO:-0700
TZNAME:PDT
DTSTART:19700308T020000
RRULE:FREQ=YEARLY;BYMONTH=3;BYDAY=2SU
END:DAYLIGHT
BEGIN:STANDARD
TZOFFSETFROM:-0700
TZOFFSETTO:-0800
TZNAME:PST
DTSTART:19701101T020000
RRULE:FREQ=YEARLY;BYMONTH=11;BYDAY=1SU
END:STANDARD
END:VTIMEZONE
BEGIN:VEVENT
UID:1464587:Event:665209
DTSTAMP:20260421T112817Z
SUMMARY:I Love the 90s Tour: Salt n Pepa (WIN TICKETS)
DESCRIPTION:ENTER TO WIN A PAIR OF TICKETS. WINNER WILL BE DRAWN RANDO
 MLY AND ANNOUNCED 2 DAYS PRIOR TO EVENT.\r\n\r\nSun, Sep 3, 2017\r\nI 
 Love The 90's Tour Featuring Salt-N-Pepa, Color Me Badd, O-Town & Youn
 g MC\r\nThe Mountain Winery 14831 Pierce Road Saratoga, CA 95070 7:30P
 M Ages: All Ages Doors Open: 5:30 PM >> BUY TICKETS\r\n\n\nFor more in
 formation visit https://trueskool.com/events/i-love-the-90s-tour-salt-
 n-pepa
DTSTART;TZID=America/Los_Angeles:20170903T193000
DTEND;TZID=America/Los_Angeles:20170903T230000
CATEGORIES:"san francisco", oakland, berkley, "san jose", "bay area"
LOCATION:The Mountain Winery, Saratoga
WEBSITE:https://www.axs.com/events/333693/i-love-the-90-s-tour-tickets
 ?skin=mountainwinery
URL:https://www.axs.com/events/333693/i-love-the-90-s-tour-tickets?ski
 n=mountainwinery
CONTACT:
ORGANIZER:Goldenvoice
ATTACH;FMTTYPE="image/jpeg":http://storage.ning.com/topology/rest/1.0/
 file/get/2247998917?profile=original
ATTENDEE;ROLE=REQ-PARTICIPANT;PARTSTAT=ACCEPTED;RSVP=TRUE;CN="Elisa Bj
 eldanes":https://trueskool.com/profile/ElisaBjeldanes
ATTENDEE;ROLE=REQ-PARTICIPANT;PARTSTAT=ACCEPTED;RSVP=TRUE;CN="Editor's
  Pick":https://trueskool.com/profile/RentheVinylArchaeologist
END:VEVENT
END:VCALENDAR
