BEGIN:VCALENDAR
PRODID:NingEventWidget-v1
VERSION:2.0
METHOD:PUBLISH
BEGIN:VTIMEZONE
TZID:America/Los_Angeles
X-LIC-LOCATION:America/Los_Angeles
BEGIN:DAYLIGHT
TZOFFSETFROM:-0800
TZOFFSETTO:-0700
TZNAME:PDT
DTSTART:19700308T020000
RRULE:FREQ=YEARLY;BYMONTH=3;BYDAY=2SU
END:DAYLIGHT
BEGIN:STANDARD
TZOFFSETFROM:-0700
TZOFFSETTO:-0800
TZNAME:PST
DTSTART:19701101T020000
RRULE:FREQ=YEARLY;BYMONTH=11;BYDAY=1SU
END:STANDARD
END:VTIMEZONE
BEGIN:VEVENT
UID:1464587:Event:673743
DTSTAMP:20260423T163151Z
SUMMARY:I AM A GOD- Grand Lake Theater
DESCRIPTION:I AM A GOD Grand Lake Theater\n\nFor more information visi
 t https://trueskool.com/events/i-am-a-god-grand-lake-theater
DTSTART;TZID=America/Los_Angeles:20180405T200000
DTEND;TZID=America/Los_Angeles:20180405T220000
CATEGORIES:oakland
LOCATION:Grand Lake Theater
WEBSITE:http://http://www.oiff.org
URL:http://http://www.oiff.org
CONTACT:
ORGANIZER;CN=Iam:https://trueskool.com/profile/Iam
ATTACH;FMTTYPE="image/jpeg":http://storage.ning.com/topology/rest/1.0/
 file/get/2248005179?profile=original
ATTENDEE;ROLE=REQ-PARTICIPANT;PARTSTAT=ACCEPTED;RSVP=TRUE;CN=Iam:https
 ://trueskool.com/profile/Iam
END:VEVENT
END:VCALENDAR
