BEGIN:VCALENDAR
PRODID:NingEventWidget-v1
VERSION:2.0
METHOD:PUBLISH
BEGIN:VTIMEZONE
TZID:America/Los_Angeles
X-LIC-LOCATION:America/Los_Angeles
BEGIN:DAYLIGHT
TZOFFSETFROM:-0800
TZOFFSETTO:-0700
TZNAME:PDT
DTSTART:19700308T020000
RRULE:FREQ=YEARLY;BYMONTH=3;BYDAY=2SU
END:DAYLIGHT
BEGIN:STANDARD
TZOFFSETFROM:-0700
TZOFFSETTO:-0800
TZNAME:PST
DTSTART:19701101T020000
RRULE:FREQ=YEARLY;BYMONTH=11;BYDAY=1SU
END:STANDARD
END:VTIMEZONE
BEGIN:VEVENT
UID:1464587:Event:630423
DTSTAMP:20260422T063313Z
SUMMARY:HUSHfest: Jack London Square
DESCRIPTION: Saturday, June 20, 2015 HUSHfest: Jack London Square a su
 blime 2-channel Silent Disco musical affair featuring:\nEast Bay Greas
 e Channel soul, funk, disco, hip hop â€¢ Davey D (KPFA \"Hard Knocks R
 adio\") â€¢ Rickey Vincent (KPFA \"History of Funk\") â€¢ Motion Potio
 n (HUSH) â€¢ DJ Platurn (Oakland Faders) â€¢ Ren the Vinyl Archaeologi
 st (True Skool)\nBrass Tax Channel house, breaks, edm, drum & bass â€¢
  Mancub (Space Cowboys) â€¢ Ernie Trevino (Brass Tax) â€¢ JoeJoe (Bras
 s Tax) â€¢ Haute Mess (Brass Tax) â€¢ MACE (Brass Tax) â€¢ Marky Ray (
 Brass Tax)\nJACK LONDON SQUARE Broadway @ Water, Oakland CA 1pm-7:30pm
  - All Ages Kids 12 and under free with ticketed adult (1 kid/adult) B
 uy advance at http://bit.ly/Ren62015\nThe HUSH descends on Jack London
  Square on Saturday June 20 as eleven DJs deliver the historic locatio
 n's first HUSHfest silent disco. Lucky attendees will enjoy two channe
 ls of contrasting styles of music with deep East Bay roots. Channel A 
 will feature soul, funk, disco, r&b and hip hop from East Bay legends 
 Davey D (KPFA's Hard Knock Radio), Dr. Rickey Vincent (KPFA's History 
 of Funk). Ren the Vinyl Archaeologist (True Skool), DJ Platurn (Oaklan
 d Faders) and Motion Potion (SFFunk). Channel B will feature house, br
 eaks, and techno from the legendary Brass Tax crew, represented by Ern
 ie Trevino, JoeJoe, Haute Mess, MACE and Marky Ray. Closing out the da
 y will be an East Bay native who is one of the bay Area's most innovat
 ive post-genre party turntablists, DJ Mancub of the Space Cowboys. Â Â
  This event is ALL AGES and as usual, children 12 and under get free h
 eadphones with a ticketed parent (1 child/parent)\n\nFor more informat
 ion visit https://trueskool.com/events/hushfest-jack-london-square
DTSTART;TZID=America/Los_Angeles:20150620T130000
DTEND;TZID=America/Los_Angeles:20150620T193000
CATEGORIES:"bay area", oakland
LOCATION:Jack London Square
WEBSITE:http://www.HUSHconcerts.com
URL:http://www.HUSHconcerts.com
CONTACT:
ORGANIZER:HUSH Concerts
ATTACH;FMTTYPE="image/jpeg":http://storage.ning.com/topology/rest/1.0/
 file/get/2247977055?profile=original
ATTENDEE;ROLE=REQ-PARTICIPANT;PARTSTAT=ACCEPTED;RSVP=TRUE;CN="Donte Ha
 rrison":https://trueskool.com/profile/DonteHarrison
ATTENDEE;ROLE=REQ-PARTICIPANT;PARTSTAT=ACCEPTED;RSVP=TRUE;CN="Editor's
  Pick":https://trueskool.com/profile/RentheVinylArchaeologist
END:VEVENT
END:VCALENDAR
