BEGIN:VCALENDAR
PRODID:NingEventWidget-v1
VERSION:2.0
METHOD:PUBLISH
BEGIN:VTIMEZONE
TZID:America/Los_Angeles
X-LIC-LOCATION:America/Los_Angeles
BEGIN:DAYLIGHT
TZOFFSETFROM:-0800
TZOFFSETTO:-0700
TZNAME:PDT
DTSTART:19700308T020000
RRULE:FREQ=YEARLY;BYMONTH=3;BYDAY=2SU
END:DAYLIGHT
BEGIN:STANDARD
TZOFFSETFROM:-0700
TZOFFSETTO:-0800
TZNAME:PST
DTSTART:19701101T020000
RRULE:FREQ=YEARLY;BYMONTH=11;BYDAY=1SU
END:STANDARD
END:VTIMEZONE
BEGIN:VEVENT
UID:1464587:Event:306342
DTSTAMP:20260420T180641Z
SUMMARY:HUMP DAY HAPPY HOUR w/ Ren the Vinyl Archaeologist @ Yoshi's S
 F (Wed 2/5)
DESCRIPTION:\n \nWEDNESDAY, FEB 5\nHUMP DAY HAPPY HOUR\nOld School - 
 Soul - Funk - Hip Hop Guaranteed to get you over the hump!\n \nFeatur
 ing:\nRen the Vinyl Archaeologist (True Skool)\n \nHalf Off Wine Wedn
 esday - 50% off select wines all night long.  Happy hour is from 5-7pm
  in the bar/lounge -- includes $4 Draft Beer & Bar Snacks / $5 Well Dr
 inks / $6 wine & cocktails\n@ Yoshi's, 1330 Fillmore St. SF\n6:30pm-10
 pm | FREE\n \n\nFor more information visit https://trueskool.com/even
 ts/humpday
DTSTART;TZID=America/Los_Angeles:20140205T183000
DTEND;TZID=America/Los_Angeles:20140205T220000
CATEGORIES:"bay area", "san francisco"
LOCATION:Yoshi's, San Francisco
WEBSITE:http://www.yoshis.com/sanfrancisco/livemusic/artist/show/3975
URL:http://www.yoshis.com/sanfrancisco/livemusic/artist/show/3975
CONTACT:
ORGANIZER:Yoshi's
ATTACH;FMTTYPE="image/jpeg":http://storage.ning.com/topology/rest/1.0/
 file/get/2247957008?profile=original
ATTENDEE;ROLE=REQ-PARTICIPANT;PARTSTAT=ACCEPTED;RSVP=TRUE;CN="Staff Pi
 ck":https://trueskool.com/profile/Ren
ATTENDEE;ROLE=REQ-PARTICIPANT;PARTSTAT=TENTATIVE;RSVP=TRUE;CN=negraybl
 anca:https://trueskool.com/profile/negrayblanca
END:VEVENT
END:VCALENDAR
