BEGIN:VCALENDAR
PRODID:NingEventWidget-v1
VERSION:2.0
METHOD:PUBLISH
BEGIN:VTIMEZONE
TZID:America/Los_Angeles
X-LIC-LOCATION:America/Los_Angeles
BEGIN:DAYLIGHT
TZOFFSETFROM:-0800
TZOFFSETTO:-0700
TZNAME:PDT
DTSTART:19700308T020000
RRULE:FREQ=YEARLY;BYMONTH=3;BYDAY=2SU
END:DAYLIGHT
BEGIN:STANDARD
TZOFFSETFROM:-0700
TZOFFSETTO:-0800
TZNAME:PST
DTSTART:19701101T020000
RRULE:FREQ=YEARLY;BYMONTH=11;BYDAY=1SU
END:STANDARD
END:VTIMEZONE
BEGIN:VEVENT
UID:1464587:Event:812168
DTSTAMP:20260421T092140Z
SUMMARY:How Weird Street Faire
DESCRIPTION:\r\nENTER TO WIN A PAIR OF TICKETS. WINNER WILL BE DRAWN R
 ANDOMLY AND ANNOUNCED 2 DAYS PRIOR TO EVENT. \r\n\r\n\r\nSATURDAY, OC
 T 15The 23rd Annual How Weird Street Faire presents “Close Encounter
 s Of The Weird Kind”\r\nThe longest-running EDM festival on the West
  Coast returns!Featuring an unforgettable day of music, art, costumes,
  and dancing with● Nine stages of world-class electronic music, repr
 esenting diverse genres and styles● Art Alley, showcasing extreme cr
 eativity● How Weird Marketplace, featuring unique goods● An eclect
 ic menu of food and drink offerings from food trucks and local restaur
 ants, and more!\r\nat Howard and 2nd Streets, San Francisco, CA, Earth
 Tickets are $35 advance, $40 at the gate.\r\nNoon to 8 p.m. | All Ages
  | Wheelchair AccessibleChildren 12 and under do not need tickets but 
 must be accompanied by a paying adult.Advance tickets are available at
  www.howweird.org or https://howweird2022.eventbrite.com\n\nFor more i
 nformation visit https://trueskool.com/events/how-weird-street-faire
DTSTART;TZID=America/Los_Angeles:20221007T180000
DTEND;TZID=America/Los_Angeles:20221007T190000
CATEGORIES:"bay area", "san francisco"
LOCATION:Howard and 2nd Streets, San Francisco, CA
WEBSITE:https://howweird2022.eventbrite.com
URL:https://howweird2022.eventbrite.com
CONTACT:
ORGANIZER;CN="Editor's Pick":https://trueskool.com/profile/RentheVinyl
 Archaeologist
ATTACH;FMTTYPE="image/jpeg":https://storage.ning.com/topology/rest/1.0
 /file/get/10836727078?profile=original
ATTENDEE;ROLE=REQ-PARTICIPANT;PARTSTAT=ACCEPTED;RSVP=TRUE;CN="Editor's
  Pick":https://trueskool.com/profile/RentheVinylArchaeologist
END:VEVENT
END:VCALENDAR
