BEGIN:VCALENDAR
PRODID:NingEventWidget-v1
VERSION:2.0
METHOD:PUBLISH
BEGIN:VTIMEZONE
TZID:America/Los_Angeles
X-LIC-LOCATION:America/Los_Angeles
BEGIN:DAYLIGHT
TZOFFSETFROM:-0800
TZOFFSETTO:-0700
TZNAME:PDT
DTSTART:19700308T020000
RRULE:FREQ=YEARLY;BYMONTH=3;BYDAY=2SU
END:DAYLIGHT
BEGIN:STANDARD
TZOFFSETFROM:-0700
TZOFFSETTO:-0800
TZNAME:PST
DTSTART:19701101T020000
RRULE:FREQ=YEARLY;BYMONTH=11;BYDAY=1SU
END:STANDARD
END:VTIMEZONE
BEGIN:VEVENT
UID:1464587:Event:282769
DTSTAMP:20260421T023849Z
SUMMARY:Housin' Authority 4Th Annual Winter Hip Hop Dance Master Class
DESCRIPTION:Some of the finest choreographers and hip hop dance teache
 rs in the bay area jammer and kato of the housin authority dance co. a
 nd shinobe jaxx of mixxed ingrdnts. Come learn a fusion of hip house s
 iul dance styles and choreography by dancera who have worked professio
 nally in the industry with likes of michael jackson madonna usher ginu
 wine and more the a e choreographers/ dancers have performet in films,
  tv, commercials, videos,plays,award shows and talk shows!!!\nonly $10
  kids $15 adults\n\nFor more information visit https://trueskool.com/e
 vents/housin-authority-4th-annual-winter-hip-hop-dance-master-class-1
DTSTART;TZID=America/Los_Angeles:20131221T150000
DTEND;TZID=America/Los_Angeles:20131221T170000
CATEGORIES:hip, hop, dance, workshop, housin, authority, dimensions, t
 heater, mixxed, ingrdnts
LOCATION:malonga arts center Oakland
WEBSITE:http://www.facebook.com/jamar801
URL:http://www.facebook.com/jamar801
CONTACT:5104653364
ORGANIZER:Jamar Welch/ Dimensions dance theater
ATTACH;FMTTYPE="image/jpeg":
ATTENDEE;ROLE=REQ-PARTICIPANT;PARTSTAT=ACCEPTED;RSVP=TRUE;CN="Jamar We
 lch":https://trueskool.com/profile/JamarWelch
END:VEVENT
END:VCALENDAR
