BEGIN:VCALENDAR
PRODID:NingEventWidget-v1
VERSION:2.0
METHOD:PUBLISH
BEGIN:VTIMEZONE
TZID:America/Los_Angeles
X-LIC-LOCATION:America/Los_Angeles
BEGIN:DAYLIGHT
TZOFFSETFROM:-0800
TZOFFSETTO:-0700
TZNAME:PDT
DTSTART:19700308T020000
RRULE:FREQ=YEARLY;BYMONTH=3;BYDAY=2SU
END:DAYLIGHT
BEGIN:STANDARD
TZOFFSETFROM:-0700
TZOFFSETTO:-0800
TZNAME:PST
DTSTART:19701101T020000
RRULE:FREQ=YEARLY;BYMONTH=11;BYDAY=1SU
END:STANDARD
END:VTIMEZONE
BEGIN:VEVENT
UID:1464587:Event:314820
DTSTAMP:20260421T065829Z
SUMMARY:House Warming & Mighty Real present Joey Negro
DESCRIPTION:Few names attain the status of legend or institution.  Jo
 ey Negro certainly is both. Intrinsically linked with the birth of Sou
 lful house in the UK and it’s rise globally, Joey Negro is the most 
 well-known pseudonym of master British DJ/producer/remixer Dave Lee. 
 The name, an homage to Pal Joey and J. Walter Negro, has nonetheless b
 ecome his calling card and synonymous with a house sound deeply rooted
  in disco. Under a plethora of other monikers including Jakatta, Akab
 u, The Sunburst Band, Sessomatto, Doug Willis, Raven Maize, and Z Fact
 or, Dave was one of the first artists to incorporate disco samples in 
 house music when he began his production career in 1988. Indeed, he wa
 s in the studio making credible, quality house music when many luminar
 ies around him were still busy getting to grips with their decks. Litt
 le has changed since then and Dave is still widely regarded as one of 
 the most commercially successful and in-demand artists on the global s
 cene.\n \nA producer first and foremost, his work ethic is legendry, 
 having been involved in well over 200 productions, countless albums an
 d a healthy stack of hit singles such as ‘Must Be The Music’, ‘M
 ake A Move On Me’, ‘Can’t Get High Without You’ and Jakatta’
 s ‘American Dream’ and ‘My Vision’, his discography is as impr
 essive as they come and he continues to release a single per month. Co
 llaborating with top musicians, vocalists and highly respected remixer
 s such as Dennis Ferrer, Henrik Schwarz, Ame and Jimpster, has given h
 im a reputation as one of the most sought after and well respected art
 ists in the scene. \n \nHis deep understanding as a selector of all 
 things soulful and house on the dancefloor have ensured his status on 
 the global DJ circuit worldwide to this day. Joey Negro's sets reflect
  his extensive love of music ranging from rare disco through to vocal 
 and classic house often into more deep, electronic and techy areas, hi
 s sets littered with exclusive tracks, old and new. His performances a
 re nothing short of legendary, leaving his audience uplifted, sweaty, 
 sore and clamoring for more.  Make sure you do not miss his rare, San
  Francisco appearance at Mighty Real on Saturday, March 29th, 2014.\n\
 nFor more information visit https://trueskool.com/events/house-warming
 -mighty-real-present-joey-negro
DTSTART;TZID=America/Los_Angeles:20140329T220000
DTEND;TZID=America/Los_Angeles:20140330T030000
CATEGORIES:san, francisco, california
LOCATION:Mighty, San Francisco
WEBSITE:http://www.eventbrite.com/e/house-warming-mighty-real-present-
 joey-negro-tickets-10679638085?aff=eorg
URL:http://www.eventbrite.com/e/house-warming-mighty-real-present-joey
 -negro-tickets-10679638085?aff=eorg
CONTACT:
ORGANIZER:Mighty
ATTACH;FMTTYPE="image/jpeg":
ATTENDEE;ROLE=REQ-PARTICIPANT;PARTSTAT=ACCEPTED;RSVP=TRUE;CN="m.deep.m
 usic":https://trueskool.com/profile/mdeepmusic
ATTENDEE;ROLE=REQ-PARTICIPANT;PARTSTAT=ACCEPTED;RSVP=TRUE;CN="Alexandr
 a Alden":https://trueskool.com/profile/AlexandraAlden
END:VEVENT
END:VCALENDAR
