BEGIN:VCALENDAR
PRODID:NingEventWidget-v1
VERSION:2.0
METHOD:PUBLISH
BEGIN:VTIMEZONE
TZID:America/Los_Angeles
X-LIC-LOCATION:America/Los_Angeles
BEGIN:DAYLIGHT
TZOFFSETFROM:-0800
TZOFFSETTO:-0700
TZNAME:PDT
DTSTART:19700308T020000
RRULE:FREQ=YEARLY;BYMONTH=3;BYDAY=2SU
END:DAYLIGHT
BEGIN:STANDARD
TZOFFSETFROM:-0700
TZOFFSETTO:-0800
TZNAME:PST
DTSTART:19701101T020000
RRULE:FREQ=YEARLY;BYMONTH=11;BYDAY=1SU
END:STANDARD
END:VTIMEZONE
BEGIN:VEVENT
UID:1464587:Event:52576
DTSTAMP:20260421T085521Z
SUMMARY:HOT WAX • DJ MONK-ONE (Wax Poetics/NYCTrust)
DESCRIPTION:Thursday, April 15\nFM presents\nHOT WAX • DJ MONK-ONE (
 Wax Poetics/NYCTrust)\n@ 222 Hyde, 222 Hyde St, San Francisco\n21+ | $
 10 | 9pm-2am\n\nHOT WAX, our monthly all styles, all vinyl dance party
 , returns with a BANG this April... All the way LIVE from New York to 
 the Bay, we've got the incredible MONK-ONE (Wax Poetics/NYCTrust) comi
 ng thru to rock the spot with a special FUTURE SHOCK set alongside HOT
  WAX hosts FREDDY & MARKY (FM)!\n\nAlso in FUTURE SHOCK fashion, we're
  celebrating the debut release of \"How To Wreck A Nice Beach: The Voc
 oder From World War II To Hip Hop\" by DAVE TOMPKINS (who'll be in the
  house too!) Catch Dave do his thing with his talk \"Something To That
  Effect\" at CHANGE THE BEAT at SOM, Tuesday, April 13 with DJs CENTIP
 EDE, B CAUSE & our very own FREDDY ANZURES.\n\nHOT WAX • MONK-ONE x 
 FM • A FUTURE SHOCK Production™\n\nFor more information visit http
 s://trueskool.com/events/hot-wax-dj-monkone-wax
DTSTART;TZID=America/Los_Angeles:20100415T210000
DTEND;TZID=America/Los_Angeles:20100416T020000
CATEGORIES:"80's", funk, boogie, electro, new, wave, disco, house
LOCATION:222 Hyde, San Francisco, CA
WEBSITE:http://www.massiveselector.com
URL:http://www.massiveselector.com
CONTACT:
ORGANIZER:FM, props, massive selector
ATTACH;FMTTYPE="image/jpeg":http://storage.ning.com/topology/rest/1.0/
 file/get/2247876527?profile=original
ATTENDEE;ROLE=REQ-PARTICIPANT;PARTSTAT=ACCEPTED;RSVP=TRUE;CN=marky:htt
 ps://trueskool.com/profile/marky
END:VEVENT
END:VCALENDAR
