BEGIN:VCALENDAR
PRODID:NingEventWidget-v1
VERSION:2.0
METHOD:PUBLISH
BEGIN:VTIMEZONE
TZID:America/Los_Angeles
X-LIC-LOCATION:America/Los_Angeles
BEGIN:DAYLIGHT
TZOFFSETFROM:-0800
TZOFFSETTO:-0700
TZNAME:PDT
DTSTART:19700308T020000
RRULE:FREQ=YEARLY;BYMONTH=3;BYDAY=2SU
END:DAYLIGHT
BEGIN:STANDARD
TZOFFSETFROM:-0700
TZOFFSETTO:-0800
TZNAME:PST
DTSTART:19701101T020000
RRULE:FREQ=YEARLY;BYMONTH=11;BYDAY=1SU
END:STANDARD
END:VTIMEZONE
BEGIN:VEVENT
UID:1464587:Event:842818
DTSTAMP:20260421T052224Z
SUMMARY:Hot 8 Brass Band with DJ Renoir
DESCRIPTION:\r\n SATURDAY, APR 4\r\n Hot 8 Brass Band - Big Tuba Tour 
 2026\r\nat Cornerstone, Berkeley\r\n Doors 7 PM. Show 8:00 PM PDT \r\n
  >> BUY TICKETS\r\n\r\n\r\n\n\nFor more information visit https://true
 skool.com/events/hot-8-brass-band-with-dj-renoir
DTSTART;TZID=America/Los_Angeles:20260404T180000
DTEND;TZID=America/Los_Angeles:20260404T190000
CATEGORIES:"bay area", berkeley
LOCATION:Cornerstone, Berkeley
WEBSITE:https://www.tixr.com/groups/cornerstoneberkeley/events/hot-8-b
 rass-band-big-tuba-tour-2026-168871
URL:https://www.tixr.com/groups/cornerstoneberkeley/events/hot-8-brass
 -band-big-tuba-tour-2026-168871
CONTACT:
ORGANIZER:Cornerstone
ATTACH;FMTTYPE="image/jpeg":https://storage.ning.com/topology/rest/1.0
 /file/get/31101393889?profile=original
ATTENDEE;ROLE=REQ-PARTICIPANT;PARTSTAT=ACCEPTED;RSVP=TRUE;CN="Editor's
  Pick":https://trueskool.com/profile/RentheVinylArchaeologist
END:VEVENT
END:VCALENDAR
