BEGIN:VCALENDAR
PRODID:NingEventWidget-v1
VERSION:2.0
METHOD:PUBLISH
BEGIN:VTIMEZONE
TZID:America/Los_Angeles
X-LIC-LOCATION:America/Los_Angeles
BEGIN:DAYLIGHT
TZOFFSETFROM:-0800
TZOFFSETTO:-0700
TZNAME:PDT
DTSTART:19700308T020000
RRULE:FREQ=YEARLY;BYMONTH=3;BYDAY=2SU
END:DAYLIGHT
BEGIN:STANDARD
TZOFFSETFROM:-0700
TZOFFSETTO:-0800
TZNAME:PST
DTSTART:19701101T020000
RRULE:FREQ=YEARLY;BYMONTH=11;BYDAY=1SU
END:STANDARD
END:VTIMEZONE
BEGIN:VEVENT
UID:1464587:Event:42348
DTSTAMP:20260421T064627Z
SUMMARY:Honor Roll presents ROLL CALL @ Som SF | Friday Nov 13th
DESCRIPTION:Honor Roll Invites you to...\n\nROLL CALL @ Som Bar SF\nEv
 ery 2nd Friday\n\nResident DJ\nTap 10\n\nGuest DJ\nTD Camp\n\nCelebrat
 ing the Release of\n\"Beautiful Noise\" by Spank Pops (Honor Roll)\n\n
 SOM BAR\n2925 16th St @ South Van Ness\nSan Francisco, CA\n\nhttp://ww
 w.honorrollcrew.com\n\n\n\nFor more information visit https://trueskoo
 l.com/events/honor-roll-presents-roll-call
DTSTART;TZID=America/Los_Angeles:20091113T220000
DTEND;TZID=America/Los_Angeles:20091114T020000
CATEGORIES:hip, hop, dancehall, reggae, "r&b", old, school, funk, hous
 e, electro
LOCATION:Som, San Franciso
WEBSITE:http://www.honorrollcrew.com
URL:http://www.honorrollcrew.com
CONTACT:
ORGANIZER;CN="Fiyah Lilly":https://trueskool.com/profile/FiyahLilly
ATTACH;FMTTYPE="image/jpeg":http://storage.ning.com/topology/rest/1.0/
 file/get/2247870793?profile=original
ATTENDEE;ROLE=REQ-PARTICIPANT;PARTSTAT=ACCEPTED;RSVP=TRUE;CN="Fiyah Li
 lly":https://trueskool.com/profile/FiyahLilly
END:VEVENT
END:VCALENDAR
