BEGIN:VCALENDAR
PRODID:NingEventWidget-v1
VERSION:2.0
METHOD:PUBLISH
BEGIN:VTIMEZONE
TZID:America/Los_Angeles
X-LIC-LOCATION:America/Los_Angeles
BEGIN:DAYLIGHT
TZOFFSETFROM:-0800
TZOFFSETTO:-0700
TZNAME:PDT
DTSTART:19700308T020000
RRULE:FREQ=YEARLY;BYMONTH=3;BYDAY=2SU
END:DAYLIGHT
BEGIN:STANDARD
TZOFFSETFROM:-0700
TZOFFSETTO:-0800
TZNAME:PST
DTSTART:19701101T020000
RRULE:FREQ=YEARLY;BYMONTH=11;BYDAY=1SU
END:STANDARD
END:VTIMEZONE
BEGIN:VEVENT
UID:1464587:Event:656199
DTSTAMP:20260422T091522Z
SUMMARY:Homegrown \"Taking Back Thanksgiving Show\"Hosted by Equipto F
 eaturing  Dregs One, Rich Iyala, Nate & Kid Rated R, Favi Estrella...
DESCRIPTION: FRIDAY, NOV 25 \nHomegrown \"Taking Back Thanksgiving Sho
 w\" \n(Fundraiser for the Families of Alex Nieto & Mario Woods)\nHoste
 d by Equipto\nFeaturing  Dregs One, Rich Iyala, Nate & Kid Rated R, Fa
 vi Estrella, Da Robba, Aukwin, Gina Madrid, Tone LLF, Double U, Sojari
 , Monk HTS, DJ Troubleman\n@ Slim's, San Francisco Tickets are $15 adv
 ance/$20 door\ndoors 8pm / show 9pm\nBUY TICKETS\n\n\nFor more informa
 tion visit https://trueskool.com/events/homegrown-taking-back-thanksgi
 ving-show-hosted-by-equipto-featuri
DTSTART;TZID=America/Los_Angeles:20161125T200000
DTEND;TZID=America/Los_Angeles:20161125T230000
CATEGORIES:"bay area", "san francisco"
LOCATION:Slim's, SF
WEBSITE:http://bit.ly/2fWJU6N
URL:http://bit.ly/2fWJU6N
CONTACT:
ORGANIZER:Slim's
ATTACH;FMTTYPE="image/jpeg":http://storage.ning.com/topology/rest/1.0/
 file/get/2247992641?profile=original
ATTENDEE;ROLE=REQ-PARTICIPANT;PARTSTAT=ACCEPTED;RSVP=TRUE;CN="Editor's
  Pick":https://trueskool.com/profile/RentheVinylArchaeologist
END:VEVENT
END:VCALENDAR
