BEGIN:VCALENDAR
PRODID:NingEventWidget-v1
VERSION:2.0
METHOD:PUBLISH
BEGIN:VTIMEZONE
TZID:America/Los_Angeles
X-LIC-LOCATION:America/Los_Angeles
BEGIN:DAYLIGHT
TZOFFSETFROM:-0800
TZOFFSETTO:-0700
TZNAME:PDT
DTSTART:19700308T020000
RRULE:FREQ=YEARLY;BYMONTH=3;BYDAY=2SU
END:DAYLIGHT
BEGIN:STANDARD
TZOFFSETFROM:-0700
TZOFFSETTO:-0800
TZNAME:PST
DTSTART:19701101T020000
RRULE:FREQ=YEARLY;BYMONTH=11;BYDAY=1SU
END:STANDARD
END:VTIMEZONE
BEGIN:VEVENT
UID:1464587:Event:275897
DTSTAMP:20260420T230340Z
SUMMARY:Homeboy Sandman (NYC)
DESCRIPTION:\nHomeboy Sandman, YC The Cynic, I Am Many, Open Mike Eagl
 e, Tone Tank\n\n\n Gramercy  TheatreNew  York, NY\nSat, 01/18/1408
 :00 PM\n Find  Tickets\n\n\n\n\nFor more information visit https://t
 rueskool.com/events/homeboy-sandman-nyc
DTSTART;TZID=America/Los_Angeles:20140118T200000
DTEND;TZID=America/Los_Angeles:20140118T230000
CATEGORIES:nyc
LOCATION:Gramercy Theatre, New York
WEBSITE:http://www.ticketmaster.com/partner_redirect?v=GHW3CWgS3Tys6aJ
 n62r7qUo5xJenYRg5dLRbV_nJH8dBxjvwNygtd_3MRs7VzSk9iXb3iaJPb5g2HWIwlMBDR
 juaRDgwFljaVKXS_ARruURXlN5hCl60NQD17ySJ26C9RRdn4w&eventid=00004B4FCBD4
 BAAF&artistid=1513692&artistname=Homeboy%20Sandman,%20YC%20The%20Cynic
 ,%20I%20Am%20Many,%20Open%20Mike%20Eagle,%20Tone%20Tank&crosssite=TM_U
 S:1513692:107&tm_link=search_msg-0_00004B4FCBD4BAAF
URL:http://www.ticketmaster.com/partner_redirect?v=GHW3CWgS3Tys6aJn62r
 7qUo5xJenYRg5dLRbV_nJH8dBxjvwNygtd_3MRs7VzSk9iXb3iaJPb5g2HWIwlMBDRjuaR
 DgwFljaVKXS_ARruURXlN5hCl60NQD17ySJ26C9RRdn4w&eventid=00004B4FCBD4BAAF
 &artistid=1513692&artistname=Homeboy%20Sandman,%20YC%20The%20Cynic,%20
 I%20Am%20Many,%20Open%20Mike%20Eagle,%20Tone%20Tank&crosssite=TM_US:15
 13692:107&tm_link=search_msg-0_00004B4FCBD4BAAF
CONTACT:
ORGANIZER;CN="Editor's Pick":https://trueskool.com/profile/RentheVinyl
 Archaeologist
ATTACH;FMTTYPE="image/jpeg":http://storage.ning.com/topology/rest/1.0/
 file/get/2247954697?profile=original
ATTENDEE;ROLE=REQ-PARTICIPANT;PARTSTAT=ACCEPTED;RSVP=TRUE;CN="Editor's
  Pick":https://trueskool.com/profile/RentheVinylArchaeologist
END:VEVENT
END:VCALENDAR
