BEGIN:VCALENDAR
PRODID:NingEventWidget-v1
VERSION:2.0
METHOD:PUBLISH
BEGIN:VTIMEZONE
TZID:America/Los_Angeles
X-LIC-LOCATION:America/Los_Angeles
BEGIN:DAYLIGHT
TZOFFSETFROM:-0800
TZOFFSETTO:-0700
TZNAME:PDT
DTSTART:19700308T020000
RRULE:FREQ=YEARLY;BYMONTH=3;BYDAY=2SU
END:DAYLIGHT
BEGIN:STANDARD
TZOFFSETFROM:-0700
TZOFFSETTO:-0800
TZNAME:PST
DTSTART:19701101T020000
RRULE:FREQ=YEARLY;BYMONTH=11;BYDAY=1SU
END:STANDARD
END:VTIMEZONE
BEGIN:VEVENT
UID:1464587:Event:53076
DTSTAMP:20260421T030322Z
SUMMARY:Hoi! Don't I Know You?, Improv Comedy Show
DESCRIPTION:Kularts presents\n\nHoi! Donâ€™t I Know You? An Improv Com
 edy Show\n\n\n\nSAN FRANCISCO, California â€“ APR 1, 2010 - Kularts pr
 esents Hoi! A SoCal Improv Comedy Duo featuring Rene Gube and Eugene C
 ordero for a weekend of laughs dictated by you, the audience! With spe
 cial guests, Bindlestiff Studioâ€™s PORK IN THE ROAD.\n\n\n\nHoi! Donâ
 €™t I Know You? Improv Comedy Show\n\nTime and Date: FRI-SAY, April 16
 -17, 8pm\n\nLocation: Bayanihan Community Center, 1010 Mission St. (@ 
 6th St) San Francisco, CA 94103\n\nAdmission: $15-20 General, $13 Adva
 nce, $12 Student/Senior\n\nTickets: https://www.brownpapertickets.com/
 event/104709\n\nInfo: 415.239.0249, www.kularts.org, info@kularts.org\
 n\nKularts presents HOI a long-form improv comedy duo from Los Angeles
 , CA, bringing the funny from the Upright Citizens Brigade Theatre (th
 e former training grounds of Amy Poehler, Aziz Ansari, Charlyne Yi, De
 rrick Comedy, Aubrey Plaza and more!) to the San Francisco area throug
 h an array of different scenes and characters based on audience sugges
 tions. Have you ever felt like the person you just met is someone you 
 already knew, somewhere before? Let Eugene Cordero and Rene Gube help 
 you discover how you know them in this fully improvised show based on 
 interviewing YOU, the audience.Come out to have a night of laughs and 
 leave knowing how you know HOI.\n\nEugene Cordero is an actor/comedian
 , based in Los Angeles, CA . He is regular performer at the Upright Ci
 tizens Brigade Theatre where he is a member of THE SMOKES and can be s
 een often improvising in ASSSSCAT. Eugene is a 1/3 of the sketch group
  BUFFOONS and also performs around the country with the Upright Citize
 ns Brigade Touring Company. In NYC, Eugene performed every Saturday ni
 ght with REUBEN WILLIAMS and was a member of UCB Harold Teams CREEP an
 d DECOSTER. Other UCB Credits include: Gun Love, Secret Slut, Van Gogh
 's Path, Hi-five, and Dance with Bears. Eugene attended Marymount Manh
 attan College, receiving a BFA in Acting. You can see him in the upcom
 ing film Furry Vengeance and check him out online at\n\nRene Gube is a
  writer and performer in Los Angeles, CA. He is a founding member of t
 he sketch groups TOUCHBLUE and SUBSTITUTE SCIENTIST, whose comedy has 
 been featured on the front pages of Funny or Die, YouTube, UCBComedy& 
 Break Media.Rene is a regular in the LA alt comedy scene, performing s
 ketch and long form improvisation weekly at venues such as Upright Cit
 izens Brigade Theatre, iO West, Room 101 &Crashbar. Since moving to Lo
 s Angeles, Rene has studied with Upright Citizens Brigade, Groundlings
 , and the UCLA Graduate School of Education and Information Studies (h
 e is a credentialed high school history teacher). At UCBTLA he has per
 formed and/or written for Let's Do This!, CDR Sketch, and Not Too Shab
 by. Google him.\n\nPORK IN THE ROAD\n\nOriginating from the bowels of 
 Bindlestiff Studio, Pork In The Road is a collective of former law enf
 orcement officers who met each other by chance in a dingy alley off Si
 xth Street while breaking up the workings of a meth lab. After several
  rounds of celebratory beers and tearful confessions, a performance gr
 oup was born out of the necessity of pointing out injustices in a corr
 upt system of the sketch comedy hierarchy.\n\nPork In The Road is: ROB
  TRINIDAD, YATO YOSHIDA, MANNY CABRERA, JOE CASCASAN, DENNIS RODIS, AN
 DREA ALMARIO, JAMIE NALLAS, SUSANNA YU, TATIANA DAYERS\n\nFor more inf
 ormation visit https://trueskool.com/events/hoi-dont-i-know-you-improv
DTSTART;TZID=America/Los_Angeles:20100416T200000
DTEND;TZID=America/Los_Angeles:20100417T220000
CATEGORIES:comedy
LOCATION:Bayanihan Community Center
WEBSITE:http://maps.google.com/places/us/ca/san-francisco/mission-st/1
 010/-bayanihan-community-center
URL:http://maps.google.com/places/us/ca/san-francisco/mission-st/1010/
 -bayanihan-community-center
CONTACT:415-239-0249
ORGANIZER;CN=Kularts:https://trueskool.com/profile/Kularts
ATTACH;FMTTYPE="image/jpeg":http://storage.ning.com/topology/rest/1.0/
 file/get/2247875627?profile=original
ATTENDEE;ROLE=REQ-PARTICIPANT;PARTSTAT=ACCEPTED;RSVP=TRUE;CN=Kularts:h
 ttps://trueskool.com/profile/Kularts
END:VEVENT
END:VCALENDAR
