BEGIN:VCALENDAR
PRODID:NingEventWidget-v1
VERSION:2.0
METHOD:PUBLISH
BEGIN:VTIMEZONE
TZID:America/Los_Angeles
X-LIC-LOCATION:America/Los_Angeles
BEGIN:DAYLIGHT
TZOFFSETFROM:-0800
TZOFFSETTO:-0700
TZNAME:PDT
DTSTART:19700308T020000
RRULE:FREQ=YEARLY;BYMONTH=3;BYDAY=2SU
END:DAYLIGHT
BEGIN:STANDARD
TZOFFSETFROM:-0700
TZOFFSETTO:-0800
TZNAME:PST
DTSTART:19701101T020000
RRULE:FREQ=YEARLY;BYMONTH=11;BYDAY=1SU
END:STANDARD
END:VTIMEZONE
BEGIN:VEVENT
UID:1464587:Event:661260
DTSTAMP:20260422T212103Z
SUMMARY:Hippie Hill feat. Berner, YG, Lil B... (WIN TICKETS)
DESCRIPTION:\n ENTER TO WIN A PAIR OF TICKETS. WINNER WILL BE DRAWN RA
 NDOMLY AND ANNOUNCED 2 DAYS PRIOR TO EVENT.  \n\n\nThursday, April 2
 0, 2017 Berner presents Hippie Hill\nBERNER\nYG\nLil B :: Young Dolph 
 :: Jesse Royal \nKool John :: Rich The Kid\nplus special guests!\nBill
  Graham Civic Auditorium San Francisco, CA\nDoors: 4:20pm Show: 5:30pm
 \n>> BUY TICKETS\n\n\n\n\nFor more information visit https://trueskool
 .com/events/hippie-hill-feat-berner-kevin-gates-lil-b-win-tickets
DTSTART;TZID=America/Los_Angeles:20170420T161500
DTEND;TZID=America/Los_Angeles:20170420T230000
CATEGORIES:"bay area", "san francisco"
LOCATION:Bill Graham Civic Auditorium, San Francisco
WEBSITE:http://www.ticketmaster.com/event/1C005266FD827576?camefrom=CF
 C_ANOTHERPLANET_im&brand=anotherplanet#efeat4211
URL:http://www.ticketmaster.com/event/1C005266FD827576?camefrom=CFC_AN
 OTHERPLANET_im&brand=anotherplanet#efeat4211
CONTACT:
ORGANIZER:Another Planet Ent
ATTACH;FMTTYPE="image/jpeg":http://storage.ning.com/topology/rest/1.0/
 file/get/2247995007?profile=original
ATTENDEE;ROLE=REQ-PARTICIPANT;PARTSTAT=ACCEPTED;RSVP=TRUE;CN="Editor's
  Pick":https://trueskool.com/profile/RentheVinylArchaeologist
END:VEVENT
END:VCALENDAR
