BEGIN:VCALENDAR
PRODID:NingEventWidget-v1
VERSION:2.0
METHOD:PUBLISH
BEGIN:VTIMEZONE
TZID:America/Los_Angeles
X-LIC-LOCATION:America/Los_Angeles
BEGIN:DAYLIGHT
TZOFFSETFROM:-0800
TZOFFSETTO:-0700
TZNAME:PDT
DTSTART:19700308T020000
RRULE:FREQ=YEARLY;BYMONTH=3;BYDAY=2SU
END:DAYLIGHT
BEGIN:STANDARD
TZOFFSETFROM:-0700
TZOFFSETTO:-0800
TZNAME:PST
DTSTART:19701101T020000
RRULE:FREQ=YEARLY;BYMONTH=11;BYDAY=1SU
END:STANDARD
END:VTIMEZONE
BEGIN:VEVENT
UID:1464587:Event:40830
DTSTAMP:20260422T043652Z
SUMMARY:Hip-Hop Chess Federation: West Coast King & Queens
DESCRIPTION:FREE ALL AGES EVENT!\n\nHip-Hop Chess Federation fuses mus
 ic, chess and martial arts to promote unity, strategy and non-violence
 .\n\nRakaa from Dilated Peopels. Traxamillion, T-KASH, Ray Luv, Balanc
 e and Big Rich and others gather to watch a chess tournament, hold Lif
 e Strategies Panels for the youth, martial arts exhibitions, watch b-b
 oy and graffiti battles and much, much more.\n\nWe are planning an ALL
  QUEENS PANEL for the event as well. But you might have a heart attack
  if you knew who was on it.....\n\nThis is a USCF rated tournament. RE
 GISTER TODAY:\n\nwww.bayareachess.com\n\nFor info on HHCF visit: www.h
 iphopchess.blogspot.com\nor www.hiphopchessfederation.org\nTHERE ARE M
 ANY IMITATIONS. BUT THERE IS ONLY ONE HIP-HOP CHESS FEDERATION!!\n\nFo
 r more information visit https://trueskool.com/events/hiphop-chess-fed
 eration-west
DTSTART;TZID=America/Los_Angeles:20091010T090000
DTEND;TZID=America/Los_Angeles:20091010T180000
CATEGORIES:hip, hop
LOCATION:O'Connell High Scholl
WEBSITE:http://hiphopchessfederation.org
URL:http://hiphopchessfederation.org
CONTACT:
ORGANIZER:Adisa Banjoko
ATTACH;FMTTYPE="image/jpeg":http://storage.ning.com/topology/rest/1.0/
 file/get/2247863094?profile=original
ATTENDEE;ROLE=REQ-PARTICIPANT;PARTSTAT=ACCEPTED;RSVP=TRUE;CN=irinaslut
 sky:https://trueskool.com/profile/irinaslutsky
END:VEVENT
END:VCALENDAR
