BEGIN:VCALENDAR
PRODID:NingEventWidget-v1
VERSION:2.0
METHOD:PUBLISH
BEGIN:VTIMEZONE
TZID:America/Los_Angeles
X-LIC-LOCATION:America/Los_Angeles
BEGIN:DAYLIGHT
TZOFFSETFROM:-0800
TZOFFSETTO:-0700
TZNAME:PDT
DTSTART:19700308T020000
RRULE:FREQ=YEARLY;BYMONTH=3;BYDAY=2SU
END:DAYLIGHT
BEGIN:STANDARD
TZOFFSETFROM:-0700
TZOFFSETTO:-0800
TZNAME:PST
DTSTART:19701101T020000
RRULE:FREQ=YEARLY;BYMONTH=11;BYDAY=1SU
END:STANDARD
END:VTIMEZONE
BEGIN:VEVENT
UID:1464587:Event:31263
DTSTAMP:20260420T180908Z
SUMMARY:Hip Hop in the Park
DESCRIPTION:Students for Hip hop at UC Berkeley presents our annual Hi
 p Hop in the Park event. Hip Hop in the park is Students for Hip Hop's
  way of bringing hip hop to the Cal community and the surrounding Berk
 eley area. This is a great event for everyone to attend. Come for live
  hip hop music, talented bay area graff artists doing live paintings, 
 and a b-girl/ b-boy circle. If you're a breaker yourself come through!
 \n\nThe following musicians will be performing:\n\nCome for:\nBlu & Ex
 ile\nBambu\nJ-boogie\nBayonics\nBayliens\nRising Asterisk\n& Da Magic 
 Foolbus\n\nthe show is FREE and WILL be dope so stop by and bring all 
 your friends!\n\nFor more information visit https://trueskool.com/even
 ts/hip-hop-in-the-park
DTSTART;TZID=America/Los_Angeles:20090502T120000
DTEND;TZID=America/Los_Angeles:20090502T170000
CATEGORIES:hip, hop, break, dancing, graffitti, djing
LOCATION:People's Park, Berkeley
WEBSITE:http://www.facebook.com/home.php#/event.php?eid=63858709869
URL:http://www.facebook.com/home.php#/event.php?eid=63858709869
CONTACT:
ORGANIZER:Students for Hip Hop at Cal
ATTACH;FMTTYPE="image/jpeg":http://storage.ning.com/topology/rest/1.0/
 file/get/2247856570?profile=original
ATTENDEE;ROLE=REQ-PARTICIPANT;PARTSTAT=ACCEPTED;RSVP=TRUE;CN=Adia:http
 s://trueskool.com/profile/Adia
END:VEVENT
END:VCALENDAR
