BEGIN:VCALENDAR
PRODID:NingEventWidget-v1
VERSION:2.0
METHOD:PUBLISH
BEGIN:VTIMEZONE
TZID:America/Los_Angeles
X-LIC-LOCATION:America/Los_Angeles
BEGIN:DAYLIGHT
TZOFFSETFROM:-0800
TZOFFSETTO:-0700
TZNAME:PDT
DTSTART:19700308T020000
RRULE:FREQ=YEARLY;BYMONTH=3;BYDAY=2SU
END:DAYLIGHT
BEGIN:STANDARD
TZOFFSETFROM:-0700
TZOFFSETTO:-0800
TZNAME:PST
DTSTART:19701101T020000
RRULE:FREQ=YEARLY;BYMONTH=11;BYDAY=1SU
END:STANDARD
END:VTIMEZONE
BEGIN:VEVENT
UID:1464587:Event:55419
DTSTAMP:20260420T163600Z
SUMMARY:Hip Hop in the Park - FREE Concert
DESCRIPTION:What: UC Berkeley's 14th Annual HIP HOP in THE PARK\nWhen:
  Saturday, May 1st\nWhere: People's Park, Berkeley, CA (Telegraph and 
 Haste)\nTime: 12-5pm\nCost: FREE\nLine-up:\nBlue Scholars\nInvincible\
 nMacklemore and Ryan Lewis\nRocky Rivera\nOtayo Dub\nKurse\nRaw-G\nLyr
 ical Minded 415\n\nAnd as always, we'll have breakers, graffiti artist
 s doing pieces, and the greater community uniting around the 14 year s
 trong tradition of HHiTP. And in the spirit of International Workers D
 ay, we are using the event as a platform to to reconnect hip hop as a 
 tool for solidarity and movement building.\n\nFacebook Event Page: htt
 p://www.facebook.com/event.php?eid=102348386474624\nUC Berkeley Studen
 ts for Hip Hop Blog: http://calhiphop.wordpress.com/2010/04/17/hip-hop
 -in-the-park-2010/\n\nFor more information visit https://trueskool.com
 /events/hip-hop-in-the-park-free
DTSTART;TZID=America/Los_Angeles:20100501T120000
DTEND;TZID=America/Los_Angeles:20100501T170000
CATEGORIES:free, hip, hop, concert
LOCATION:People's Park, Berkeley, CA
WEBSITE:http://www.facebook.com/event.php?eid=102348386474624
URL:http://www.facebook.com/event.php?eid=102348386474624
CONTACT:
ORGANIZER;CN="UC Berkeley Students for Hip Hop":https://trueskool.com/
 profile/UCBerkeleyStudentsforHipHop
ATTACH;FMTTYPE="image/jpeg":http://storage.ning.com/topology/rest/1.0/
 file/get/2247878068?profile=original
ATTENDEE;ROLE=REQ-PARTICIPANT;PARTSTAT=ACCEPTED;RSVP=TRUE;CN="caramel 
 queen":https://trueskool.com/profile/caramelqueen
ATTENDEE;ROLE=REQ-PARTICIPANT;PARTSTAT=ACCEPTED;RSVP=TRUE;CN="UC Berke
 ley Students for Hip Hop":https://trueskool.com/profile/UCBerkeleyStud
 entsforHipHop
END:VEVENT
END:VCALENDAR
