BEGIN:VCALENDAR
PRODID:NingEventWidget-v1
VERSION:2.0
METHOD:PUBLISH
BEGIN:VTIMEZONE
TZID:America/Los_Angeles
X-LIC-LOCATION:America/Los_Angeles
BEGIN:DAYLIGHT
TZOFFSETFROM:-0800
TZOFFSETTO:-0700
TZNAME:PDT
DTSTART:19700308T020000
RRULE:FREQ=YEARLY;BYMONTH=3;BYDAY=2SU
END:DAYLIGHT
BEGIN:STANDARD
TZOFFSETFROM:-0700
TZOFFSETTO:-0800
TZNAME:PST
DTSTART:19701101T020000
RRULE:FREQ=YEARLY;BYMONTH=11;BYDAY=1SU
END:STANDARD
END:VTIMEZONE
BEGIN:VEVENT
UID:1464587:Event:283254
DTSTAMP:20260421T182326Z
SUMMARY:Hip-Hop For The Philippines
DESCRIPTION:The Fresh Yard, Premier Fits and Mighty Garden Supply woul
 d like to invite you to,  Hip Hop For The Philippines, a benefit event
  for those affected by Typhoon Yolanda in The Philippines.  DECEMBER 1
 4TH, 2013: 7PM-2AM AT Somewhere Loud  The event will have live entert
 ainment showcasing performers such as LUCKYIAM of Living Legends W/ La
 na Shea & DJ Nykon, RASCO (Cali Agents), BLACK AESOP (Living Legends),
  ODESSA KANE, C.YOUNG, BAM CIRCA 86, MIKEY MO THE MC, DOMI YOUNG, DIFF
 'RENT DaSAME (Flii Stylz & 4two7).  DJ Showcase by DMC Champs BATTLE S
 TAR MASSIVE DJ Sets by Mr.Hek, Artistic, Daeta One, Norm Rocwell, Bar 
 One.  FOOD by Premier Plates. 100% of profits will be donated to our b
 enefit. Cupcakes and Cakepops by Sinfully Sweet.  ALL PROCEEDS WILL BE
  DONATED TO SAGIP-TULONG SA PILIPINAS ( STP ) EMERGENCY RELIEF FUND & 
 GAWAD KALINGA OPERATION WALANG IWANAN.  Entrance: $10 Minimum Donation
 s. We encourage you to donate more.  The event is 18+  There will be 
 a charity raffle with giveaways from many brands and sponsors. $5 a ra
 ffle ticket. All proceeds will be donated.  If you would like to parti
 cipate or more info please give us a call at The Fresh Yard or email u
 s. Tel: 619-287-1980 Email: hello@thefreshyard.com\nhttps://www.facebo
 ok.com/events/617719504953283/  We hope to see you there to show your 
 support! Thanks!   Somewhere Loud: 3489 Noell St., San Diego, CA 9211
 0. Tel: 855-336-8368. www.somewhereloud.com\n\nFor more information v
 isit https://trueskool.com/events/hip-hop-for-the-philippines
DTSTART;TZID=America/Los_Angeles:20131214T190000
DTEND;TZID=America/Los_Angeles:20131215T020000
CATEGORIES:san, diego
LOCATION:Somewhere Loud, San Diego
WEBSITE:http://www.somewhereloud.com
URL:http://www.somewhereloud.com
CONTACT:619-287-1980
ORGANIZER:The Fresh Yard
ATTACH;FMTTYPE="image/jpeg":http://storage.ning.com/topology/rest/1.0/
 file/get/2247955726?profile=original
ATTENDEE;ROLE=REQ-PARTICIPANT;PARTSTAT=ACCEPTED;RSVP=TRUE;CN="Koncept 
 Freshyard":https://trueskool.com/profile/KonceptFreshyard
END:VEVENT
END:VCALENDAR
