BEGIN:VCALENDAR
PRODID:NingEventWidget-v1
VERSION:2.0
METHOD:PUBLISH
BEGIN:VTIMEZONE
TZID:America/Los_Angeles
X-LIC-LOCATION:America/Los_Angeles
BEGIN:DAYLIGHT
TZOFFSETFROM:-0800
TZOFFSETTO:-0700
TZNAME:PDT
DTSTART:19700308T020000
RRULE:FREQ=YEARLY;BYMONTH=3;BYDAY=2SU
END:DAYLIGHT
BEGIN:STANDARD
TZOFFSETFROM:-0700
TZOFFSETTO:-0800
TZNAME:PST
DTSTART:19701101T020000
RRULE:FREQ=YEARLY;BYMONTH=11;BYDAY=1SU
END:STANDARD
END:VTIMEZONE
BEGIN:VEVENT
UID:1464587:Event:674770
DTSTAMP:20260422T081452Z
SUMMARY:Hip Hop For Change 5-Year Anniversary Jam!
DESCRIPTION:\r\nFRIDAY MAY 4\r\nHip Hop For Change 5-Year Anniversary 
 Jam!Featuring Live Performances by: \r\nKhafre Jay \r\nUnLearn The Wor
 ld \r\nWatzreal \r\nBreathless \r\nTone Oliver \r\nKenson \r\nGroove M
 afia\r\nPsychonaut \r\nAphrodyziak \r\nYoung Pops (Abstract Music) \r\
 nand more!Poetry by:\r\nCollin Edmonds\r\nReginald Edmonds\r\nAudacity
  The Poet\r\nElizua Hernandez & Daniela MontenegroDJs:\r\nJay Peezy an
 d DJ Mike @ Elbo Room, Oakland\r\n$10 cover, 21+. 9pm-2am\r\nBuy ticke
 ts here: https://hiphopforchange5year.eventbrite.com/\r\nMore info: ht
 tp://www.hiphopforchange.org/\n\nFor more information visit https://tr
 ueskool.com/events/hip-hop-for-change-5-year-anniversary-jam
DTSTART;TZID=America/Los_Angeles:20180504T210000
DTEND;TZID=America/Los_Angeles:20180505T020000
CATEGORIES:"bay area", oakland
LOCATION:Elbo Room, Oakland
WEBSITE:https://hiphopforchange5year.eventbrite.com
URL:https://hiphopforchange5year.eventbrite.com
CONTACT:
ORGANIZER:Hip Hop For Change
ATTACH;FMTTYPE="image/jpeg":http://storage.ning.com/topology/rest/1.0/
 file/get/2248006527?profile=original
ATTENDEE;ROLE=REQ-PARTICIPANT;PARTSTAT=ACCEPTED;RSVP=TRUE;CN="Editor's
  Pick":https://trueskool.com/profile/RentheVinylArchaeologist
END:VEVENT
END:VCALENDAR
