BEGIN:VCALENDAR
PRODID:NingEventWidget-v1
VERSION:2.0
METHOD:PUBLISH
BEGIN:VTIMEZONE
TZID:America/Los_Angeles
X-LIC-LOCATION:America/Los_Angeles
BEGIN:DAYLIGHT
TZOFFSETFROM:-0800
TZOFFSETTO:-0700
TZNAME:PDT
DTSTART:19700308T020000
RRULE:FREQ=YEARLY;BYMONTH=3;BYDAY=2SU
END:DAYLIGHT
BEGIN:STANDARD
TZOFFSETFROM:-0700
TZOFFSETTO:-0800
TZNAME:PST
DTSTART:19701101T020000
RRULE:FREQ=YEARLY;BYMONTH=11;BYDAY=1SU
END:STANDARD
END:VTIMEZONE
BEGIN:VEVENT
UID:1464587:Event:36866
DTSTAMP:20260421T022427Z
SUMMARY:High Times in Low Places w/ Opio & Pep Love (Hieroglyphics) + 
 Bicasso & Aesop w/ DJ Fresh (Living Legends)
DESCRIPTION:Opio & Pep Love\nBicasso & Aesop of Living Legends w. DJ F
 resh\nThe Understudies\nInfluence & Ro Knew\nCambo\nJB Nimble\nDJ Ren 
 The Vinyl Archaeologist\n\nFor more information visit https://trueskoo
 l.com/events/high-times-in-low-places-w
DTSTART;TZID=America/Los_Angeles:20090828T210000
DTEND;TZID=America/Los_Angeles:20090829T020000
CATEGORIES:hip, hop
LOCATION:Slim's, San Francisco, CA
WEBSITE:http://www.slims-sf.com
URL:http://www.slims-sf.com
CONTACT:
ORGANIZER:Study Music/weedTRACKERmusic/True Skool/Ineffable Music Grou
 p
ATTACH;FMTTYPE="image/jpeg":http://storage.ning.com/topology/rest/1.0/
 file/get/2106897752?profile=original
ATTENDEE;ROLE=REQ-PARTICIPANT;PARTSTAT=ACCEPTED;RSVP=TRUE;CN="self adv
 ocate":https://trueskool.com/profile/selfadvocate
ATTENDEE;ROLE=REQ-PARTICIPANT;PARTSTAT=ACCEPTED;RSVP=TRUE;CN=CitizenOf
 TheUnderstudies:https://trueskool.com/profile/CitizenOfTheUnderstudies
END:VEVENT
END:VCALENDAR
