BEGIN:VCALENDAR
PRODID:NingEventWidget-v1
VERSION:2.0
METHOD:PUBLISH
BEGIN:VTIMEZONE
TZID:America/Los_Angeles
X-LIC-LOCATION:America/Los_Angeles
BEGIN:DAYLIGHT
TZOFFSETFROM:-0800
TZOFFSETTO:-0700
TZNAME:PDT
DTSTART:19700308T020000
RRULE:FREQ=YEARLY;BYMONTH=3;BYDAY=2SU
END:DAYLIGHT
BEGIN:STANDARD
TZOFFSETFROM:-0700
TZOFFSETTO:-0800
TZNAME:PST
DTSTART:19701101T020000
RRULE:FREQ=YEARLY;BYMONTH=11;BYDAY=1SU
END:STANDARD
END:VTIMEZONE
BEGIN:VEVENT
UID:1464587:Event:63859
DTSTAMP:20260420T113057Z
SUMMARY:\"HIGH GRADE TUESDAY'S @ ATMOSPHERE SF!!
DESCRIPTION:\n\nBLAZIN' DANCEHALL MUSIC & VIBES IN THE HEART OF THE CI
 TY!\nFever SF & Lion Link International present:\n\"HIGH GRADE TUESDAY
 S\" @ ATOMSPHERE\n\nwith resident DJ THEORY\n\nHosted by DeeCee's Soul
  Shakedown\n\nHeavyweight guest DJ's every week - LIVE artists every m
 onth\n\nDancehall in San Francisco just got a little more fly...\nEVER
 Y TUESDAY we're taking the vibes to new heights and bringing it to the
  club! We're pleased to present a new weekly for not just Dancehall an
 d Reggae fans, but everyone who appreciates quality nightlife here in 
 San Francisco. We look forward to seeing all of you beautiful people @
  our new home on Tuesday August 24th!\n\n@ ATMOSPHERE\n447 Broadway (b
 twn Montgomery & Kearny)\n10-2AM | 21+| NO COVER! (unless noted) | Cas
 ual dress\n\n--------------------\nDRINK SPECIALS\n-------------------
 -\n\n$2 Bud / $5 Vodka or Henny shots\n$100 Belvedere / $125 Hennessy 
 bottle special!!\n\nfor more info or to reserve a table visit: http://
 www.A3Atmosphere.com/\n\n-------------\nCALENDAR\n-------------\n\nAUG
 UST 24TH:\n*GRAND OPENING!!* SMOKY'S BDAY BASHMENT!!\nW/ DJ SMOKY (One
  Blood Sound, King Of Kings)\n\n\nAUGUST 31ST:\nDJ BEATNOK (I&I Vibrat
 ion, Skylarking)\n\n\nSEPTEMBER 7TH:\nDirect from Brooklyn, NYC\n-----
 -------------------\nJAHDAN BLAKKAMOORE *LIVE*\n----------------------
 --\nsupport from DANEEKAH & GREEN B (Cooyah!)\nonly $5 before 11!! $10
  after VIP available\n\n\nSEPTEMBER 14:\nDJ JACQUES (WBLK, Monday Nigh
 t Edutainment)\n\nFor more information visit https://trueskool.com/eve
 nts/high-grade-tuesdays
DTSTART;TZID=America/Los_Angeles:20100824T220000
DTEND;TZID=America/Los_Angeles:20100825T020000
CATEGORIES:bay, area
LOCATION:Atmosphere
WEBSITE:http://www.a3atmosphere.com
URL:http://www.a3atmosphere.com
CONTACT:
ORGANIZER;CN="Deejay Theory":https://trueskool.com/profile/DJTheory
ATTACH;FMTTYPE="image/jpeg":http://storage.ning.com/topology/rest/1.0/
 file/get/2247883237?profile=original
ATTENDEE;ROLE=REQ-PARTICIPANT;PARTSTAT=ACCEPTED;RSVP=TRUE;CN="Deejay T
 heory":https://trueskool.com/profile/DJTheory
END:VEVENT
END:VCALENDAR
