BEGIN:VCALENDAR
PRODID:NingEventWidget-v1
VERSION:2.0
METHOD:PUBLISH
BEGIN:VTIMEZONE
TZID:America/Los_Angeles
X-LIC-LOCATION:America/Los_Angeles
BEGIN:DAYLIGHT
TZOFFSETFROM:-0800
TZOFFSETTO:-0700
TZNAME:PDT
DTSTART:19700308T020000
RRULE:FREQ=YEARLY;BYMONTH=3;BYDAY=2SU
END:DAYLIGHT
BEGIN:STANDARD
TZOFFSETFROM:-0700
TZOFFSETTO:-0800
TZNAME:PST
DTSTART:19701101T020000
RRULE:FREQ=YEARLY;BYMONTH=11;BYDAY=1SU
END:STANDARD
END:VTIMEZONE
BEGIN:VEVENT
UID:1464587:Event:811015
DTSTAMP:20260421T190938Z
SUMMARY:Hiero Day 2022 feat. Hieroglyphics, Keyshia Cole, Kool G Rap, 
 Masta Ace & Marco Polo, Fashawn, Los Rakas, plus more...
DESCRIPTION:\r\n\r\nMONDAY, SEPT 5\r\nHiero Day 2022\r\nFeat. Hierogly
 phics, Keyshia Cole, Kool G Rap, Masta Ace & Marco Polo, Fashawn, Los 
 Rakas, Mara Hruby, Breakbeat Lou, Zion I Tribute ft. Amp Live, The Gro
 uch, Deuce Eclipse, Kev Choice +more\r\n \r\n@ Oakland, CA\r\n >> BUY
  TICKETS\r\n\r\n\r\n\r\n\r\n\r\n\n\nFor more information visit https:/
 /trueskool.com/events/hiero-day-2022-feat-hieroglyphics-keyshia-cole-k
 ool-g-rap-masta-a
DTSTART;TZID=America/Los_Angeles:20220905T120000
DTEND;TZID=America/Los_Angeles:20220905T220000
CATEGORIES:"bay area", oakland
LOCATION:Jack London Square, Oakland, CA
WEBSITE:http://www.hieroday.com
URL:http://www.hieroday.com
CONTACT:
ORGANIZER:Soundchain.io
ATTACH;FMTTYPE="image/jpeg":https://storage.ning.com/topology/rest/1.0
 /file/get/10784766279?profile=original
ATTENDEE;ROLE=REQ-PARTICIPANT;PARTSTAT=ACCEPTED;RSVP=TRUE;CN="Editor's
  Pick":https://trueskool.com/profile/RentheVinylArchaeologist
END:VEVENT
END:VCALENDAR
