BEGIN:VCALENDAR
PRODID:NingEventWidget-v1
VERSION:2.0
METHOD:PUBLISH
BEGIN:VTIMEZONE
TZID:America/Los_Angeles
X-LIC-LOCATION:America/Los_Angeles
BEGIN:DAYLIGHT
TZOFFSETFROM:-0800
TZOFFSETTO:-0700
TZNAME:PDT
DTSTART:19700308T020000
RRULE:FREQ=YEARLY;BYMONTH=3;BYDAY=2SU
END:DAYLIGHT
BEGIN:STANDARD
TZOFFSETFROM:-0700
TZOFFSETTO:-0800
TZNAME:PST
DTSTART:19701101T020000
RRULE:FREQ=YEARLY;BYMONTH=11;BYDAY=1SU
END:STANDARD
END:VTIMEZONE
BEGIN:VEVENT
UID:1464587:Event:666493
DTSTAMP:20260421T125243Z
SUMMARY:Hiero Day 2017 ft. Bun B, Goapele, dead prez and more!
DESCRIPTION:\r\nMon, September 4, 2017\r\n6th Annual Hiero Day\r\n\r\n
 Oakland Downtown Street Festival Oakland, CA\r\n11:00 AM – 7:00 PM P
 DT\r\n>> BUY TICKETS\r\nHiero Day is considered one of the best music 
 festivals in Northern California. This is a one-day event combining an
  outdoor festival, concert, food, and block party where thousands come
  to celebrate all that is good about Oakland, September 4, 2017. This 
 community event brings together all ages and backgrounds. The event ho
 sts multiple stages to feature local and internationally renowned arti
 sts and DJs providing continuous entertainment from Hip-Hop, Jazz, Ele
 ctronic, Alternative and R&B.\r\nChildren 7 and under are free.\r\n\r\
 n\r\n\r\n\n\nFor more information visit https://trueskool.com/events/h
 iero-day-2017
DTSTART;TZID=America/Los_Angeles:20170904T110000
DTEND;TZID=America/Los_Angeles:20170904T190000
CATEGORIES:"san francisco", oakland, berkley, "san jose", "bay area"
LOCATION:De Fremery Park, Oakland
WEBSITE:https://www.hieroday.com/copy-of-get-tickets
URL:https://www.hieroday.com/copy-of-get-tickets
CONTACT:
ORGANIZER;CN="Editor's Pick":https://trueskool.com/profile/RentheVinyl
 Archaeologist
ATTACH;FMTTYPE="image/jpeg":http://storage.ning.com/topology/rest/1.0/
 file/get/2248006100?profile=original
ATTENDEE;ROLE=REQ-PARTICIPANT;PARTSTAT=ACCEPTED;RSVP=TRUE;CN="Editor's
  Pick":https://trueskool.com/profile/RentheVinylArchaeologist
END:VEVENT
END:VCALENDAR
