BEGIN:VCALENDAR
PRODID:NingEventWidget-v1
VERSION:2.0
METHOD:PUBLISH
BEGIN:VTIMEZONE
TZID:America/Los_Angeles
X-LIC-LOCATION:America/Los_Angeles
BEGIN:DAYLIGHT
TZOFFSETFROM:-0800
TZOFFSETTO:-0700
TZNAME:PDT
DTSTART:19700308T020000
RRULE:FREQ=YEARLY;BYMONTH=3;BYDAY=2SU
END:DAYLIGHT
BEGIN:STANDARD
TZOFFSETFROM:-0700
TZOFFSETTO:-0800
TZNAME:PST
DTSTART:19701101T020000
RRULE:FREQ=YEARLY;BYMONTH=11;BYDAY=1SU
END:STANDARD
END:VTIMEZONE
BEGIN:VEVENT
UID:1464587:Event:53283
DTSTAMP:20260420T205212Z
SUMMARY:HI DEF
DESCRIPTION:Saturday, April 17th, 2010, please join 330 Ritch and HI-D
 EF resident, World Famous DJ APOLLO, as we welcome a very special gues
 t, DJ SWIFT ROCK, for a night of video mixing at\n\"San Francisco's Pr
 emier Video Mixing Night,\" HI-DEF @ 330 Ritch.\n\nEnjoy $1 Heinekens 
 and $2 cocktails from 10-11 pm while these legendary DJs play your fav
 orite videos, new and old, on four large screens!!\n\nBIRTHDAY SPECIAL
 !!!! = Come celebrate your birthday with us and all of your friends an
 d we can organize you a special guest list and BUY YOU A BOTTLE OF CHA
 MPAGNE!!!\n\n$5 before 11pm with RSVP through facebook, or to info@330
 ritch.com.\n\nBOTTLE SERVICE SPECIAL!!!!l = Buy one get the second hal
 f-price!\ncontact: bottleservice@330ritch.com or call 415 902 3125\n\n
 Doors: 10pm 21+\n\nFor more information visit https://trueskool.com/ev
 ents/hi-def
DTSTART;TZID=America/Los_Angeles:20100417T220000
DTEND;TZID=America/Los_Angeles:20100418T020000
CATEGORIES:"sf's", premiere, video, mixing, night, -, hip, hop, reggae
 , old, school, and, then, "some..."
LOCATION:330 Ritch
WEBSITE:http://www.330ritch.com
URL:http://www.330ritch.com
CONTACT:
ORGANIZER;CN="DJ Apollo":https://trueskool.com/profile/DJApollo
ATTACH;FMTTYPE="image/jpeg":http://storage.ning.com/topology/rest/1.0/
 file/get/2247876876?profile=original
ATTENDEE;ROLE=REQ-PARTICIPANT;PARTSTAT=ACCEPTED;RSVP=TRUE;CN="DJ Apoll
 o":https://trueskool.com/profile/DJApollo
END:VEVENT
END:VCALENDAR
