BEGIN:VCALENDAR
PRODID:NingEventWidget-v1
VERSION:2.0
METHOD:PUBLISH
BEGIN:VTIMEZONE
TZID:America/Los_Angeles
X-LIC-LOCATION:America/Los_Angeles
BEGIN:DAYLIGHT
TZOFFSETFROM:-0800
TZOFFSETTO:-0700
TZNAME:PDT
DTSTART:19700308T020000
RRULE:FREQ=YEARLY;BYMONTH=3;BYDAY=2SU
END:DAYLIGHT
BEGIN:STANDARD
TZOFFSETFROM:-0700
TZOFFSETTO:-0800
TZNAME:PST
DTSTART:19701101T020000
RRULE:FREQ=YEARLY;BYMONTH=11;BYDAY=1SU
END:STANDARD
END:VTIMEZONE
BEGIN:VEVENT
UID:1464587:Event:265336
DTSTAMP:20260421T145235Z
SUMMARY:HERNAN CATTANEO at Mighty
DESCRIPTION:SET is proud to be a part of this special occasion and par
 tnering up with Mighty for their anniversary. This event will be huge 
 and for that very main reason we chose one of our favorite DJ/Producer
 's of all times Hernan Cattaneo. We encourage everyone to purchase the
 ir tickets in advance as this show will sell out.\n\n\n\nFor more info
 rmation visit https://trueskool.com/events/hernan-cattaneo-at-mighty
DTSTART;TZID=America/Los_Angeles:20131213T220000
DTEND;TZID=America/Los_Angeles:20131214T030000
CATEGORIES:san, francisco, ca
LOCATION:Mighty, San Francisco, CA
WEBSITE:http://tixyy.com/e/mightysanniversaryparty
URL:http://tixyy.com/e/mightysanniversaryparty
CONTACT:
ORGANIZER:Mighty
ATTACH;FMTTYPE="image/jpeg":http://storage.ning.com/topology/rest/1.0/
 file/get/2247952835?profile=original
ATTENDEE;ROLE=REQ-PARTICIPANT;PARTSTAT=ACCEPTED;RSVP=TRUE;CN="Alexandr
 a Alden":https://trueskool.com/profile/AlexandraAlden
END:VEVENT
END:VCALENDAR
