BEGIN:VCALENDAR
PRODID:NingEventWidget-v1
VERSION:2.0
METHOD:PUBLISH
BEGIN:VTIMEZONE
TZID:America/Los_Angeles
X-LIC-LOCATION:America/Los_Angeles
BEGIN:DAYLIGHT
TZOFFSETFROM:-0800
TZOFFSETTO:-0700
TZNAME:PDT
DTSTART:19700308T020000
RRULE:FREQ=YEARLY;BYMONTH=3;BYDAY=2SU
END:DAYLIGHT
BEGIN:STANDARD
TZOFFSETFROM:-0700
TZOFFSETTO:-0800
TZNAME:PST
DTSTART:19701101T020000
RRULE:FREQ=YEARLY;BYMONTH=11;BYDAY=1SU
END:STANDARD
END:VTIMEZONE
BEGIN:VEVENT
UID:1464587:Event:265218
DTSTAMP:20260421T145328Z
SUMMARY:HERNAN CATTANEO at Mighty
DESCRIPTION:SET with HERNAN CATTANEO12.13.13 FridayMIGHTY'S 10TH YEAR 
 ANNIVERSARY PARYSET is proud to be a part of this special occasion and
  partnering up with Mighty for their anniversary. This event will be h
 uge and for that very main reason we chose one of our favorite DJ/Prod
 ucer's of all times Hernan Cattaneo. We encourage everyone to purchase
  their tickets in advance as this show will sell out.TICKETS NOW AVAIL
 ABLEDon't miss this magical night as we make history together with one
  of San Francisco's best underground nightclubs.ABOUT HERNAN CATTANEO:
 For some DJs, music is more than just their passion or occupation – 
 it’s the reason for their existence, the thing that keeps their worl
 d turning. Hernan Cattaneo is that special breed. Across his three dec
 ade journey through music, the legendary South American DJ has lived h
 is life through the music that inspires him; inspiring thousands of el
 ectronic music lovers across the globe in the process.As a respected l
 abel owner and producer, Cattaneo’s creative output remains as plent
 iful as ever. In just two years, his Sudbeat label has risen up as a l
 eading light in melodic electronic music – regularly releasing mater
 ial from names like Guy J, Henry Saiz, Nick Warren and Danny Howells. 
 Hernan’s own tracks have provided other highlights in the label’s 
 growing discography, with the Argentinean electronic music ambassador 
 currently working on many studio projects.Sharing these sounds – and
  those that inspire him – is at the heart of Hernan’s musical miss
 ion and is something he achieves through his relentless touring schedu
 le. A resident at the UK’s longest running weekly event The Gallery 
 @ London’s Ministry of Sound, Hernan’s DJ passport is stamped with
  the most respected dance events on the planet. From Serbia’s Exit t
 o Las Vegas Electric Daisy Carnival, Spain’s Monegros to Holland’s
  Dance Valley, just about every major dance event has been graced by H
 ernan’s expertly weaved DJ journeys.Blessed with a deeply ingrained 
 knowledge of house music and its many electronic roots, Hernan’s own
  DJ journey can be traced back to the mid-80s in Buenos Aires. Fascina
 ted by pioneering synth-pop and post-punk bands like Depeche Mode and 
 New Order, Cattaneo soon became consumed by imported 12”s from the l
 ikes of Frankie Knuckles, Derrick May and Inner City.Before long, the 
 young music lover’s instinctive desire to DJ and share this new foun
 d love of Chicago and Detroit based sounds had lead him to his first 
  and now legendary – residency at Buenos Aires Clubland.\n\nFor mo
 re information visit https://trueskool.com/events/hernan-cattaneo-at-m
 ighty-1
DTSTART;TZID=America/Los_Angeles:20131213T210000
DTEND;TZID=America/Los_Angeles:20131214T040000
CATEGORIES:san, francisco, ca
LOCATION:Mighty, San Francisco, CA
WEBSITE:http://tixyy.com/e/mightysanniversaryparty
URL:http://tixyy.com/e/mightysanniversaryparty
CONTACT:
ORGANIZER:Mighty
ATTACH;FMTTYPE="image/jpeg":http://storage.ning.com/topology/rest/1.0/
 file/get/2247952835?profile=original
ATTENDEE;ROLE=REQ-PARTICIPANT;PARTSTAT=ACCEPTED;RSVP=TRUE;CN="Alexandr
 a Alden":https://trueskool.com/profile/AlexandraAlden
END:VEVENT
END:VCALENDAR
