BEGIN:VCALENDAR
PRODID:NingEventWidget-v1
VERSION:2.0
METHOD:PUBLISH
BEGIN:VTIMEZONE
TZID:America/Los_Angeles
X-LIC-LOCATION:America/Los_Angeles
BEGIN:DAYLIGHT
TZOFFSETFROM:-0800
TZOFFSETTO:-0700
TZNAME:PDT
DTSTART:19700308T020000
RRULE:FREQ=YEARLY;BYMONTH=3;BYDAY=2SU
END:DAYLIGHT
BEGIN:STANDARD
TZOFFSETFROM:-0700
TZOFFSETTO:-0800
TZNAME:PST
DTSTART:19701101T020000
RRULE:FREQ=YEARLY;BYMONTH=11;BYDAY=1SU
END:STANDARD
END:VTIMEZONE
BEGIN:VEVENT
UID:1464587:Event:672010
DTSTAMP:20260421T111923Z
SUMMARY:HERBIE HANCOCK
DESCRIPTION:An Evening With\r\nHERBIE HANCOCK\r\nFox Theater Oakland, 
 CA\r\nSunday, March 04, 2018 Show: 7:30pm\r\n$95.00 – Reserved Seati
 ng Pit $65.00 – Reserved Seating $39.50 – Reserved Balcony\r\n*plu
 s applicable service fees\r\nTickets are also available service charge
  free at The Fox Theater’s Box Office (located on the 19th street si
 de of the theater) on show dates and on Fridays from noon – 7:00pm.\
 n\nFor more information visit https://trueskool.com/events/herbie-hanc
 ock
DTSTART;TZID=America/Los_Angeles:20180304T193000
DTEND;TZID=America/Los_Angeles:20180304T230000
CATEGORIES:"bay area", oakland, "san francisco", "san jose", berkeley
LOCATION:Fox Theater, Oakland
WEBSITE:https://www.ticketmaster.com/herbie-hancock-oakland-california
 -03-04-2018/event/1C005375A3C42D9A?camefrom=CFC_ANOTHERPLANET_web&amp;
 brand=anotherplanet
URL:https://www.ticketmaster.com/herbie-hancock-oakland-california-03-
 04-2018/event/1C005375A3C42D9A?camefrom=CFC_ANOTHERPLANET_web&amp;bran
 d=anotherplanet
CONTACT:
ORGANIZER;CN="Editor's Pick":https://trueskool.com/profile/RentheVinyl
 Archaeologist
ATTACH;FMTTYPE="image/jpeg":http://storage.ning.com/topology/rest/1.0/
 file/get/2248003201?profile=original
ATTENDEE;ROLE=REQ-PARTICIPANT;PARTSTAT=ACCEPTED;RSVP=TRUE;CN="Editor's
  Pick":https://trueskool.com/profile/RentheVinylArchaeologist
END:VEVENT
END:VCALENDAR
