BEGIN:VCALENDAR
PRODID:NingEventWidget-v1
VERSION:2.0
METHOD:PUBLISH
BEGIN:VTIMEZONE
TZID:America/Los_Angeles
X-LIC-LOCATION:America/Los_Angeles
BEGIN:DAYLIGHT
TZOFFSETFROM:-0800
TZOFFSETTO:-0700
TZNAME:PDT
DTSTART:19700308T020000
RRULE:FREQ=YEARLY;BYMONTH=3;BYDAY=2SU
END:DAYLIGHT
BEGIN:STANDARD
TZOFFSETFROM:-0700
TZOFFSETTO:-0800
TZNAME:PST
DTSTART:19701101T020000
RRULE:FREQ=YEARLY;BYMONTH=11;BYDAY=1SU
END:STANDARD
END:VTIMEZONE
BEGIN:VEVENT
UID:1464587:Event:65633
DTSTAMP:20260421T053444Z
SUMMARY:Hennessy Artistry Presents Bilal Listening Party Feat. Kev Cho
 ice w/ Band | FREE b4 10p w/ RSVP
DESCRIPTION:\n\n\nWednesday September 15, 2010\n\n330 Ritch, Fusicolog
 y & The Z List Present\n\nKev Choice\n\nLive in Concert\nPerforming wi
 th his Band\nEarly Show!\n\nDoors 9pm // 21+\nFREE before 10pm with RS
 VP to info@330ritch.com\n\nplus\nHennessy Artistry Presents\nBilal Lis
 tening Party 9-10pm\n\nRSVP REQUIRED via\ninfo@330ritch.com\n\n \n\nFo
 r more information visit https://trueskool.com/events/hennessy-artistr
 y-presents
DTSTART;TZID=America/Los_Angeles:20100915T210000
DTEND;TZID=America/Los_Angeles:20100915T233000
CATEGORIES:san, francisco, ca
LOCATION:330 Ritch, San Francisco
WEBSITE:http://330ritch.com/
URL:http://330ritch.com/
CONTACT:415-541-9574
ORGANIZER:330 Ritch
ATTACH;FMTTYPE="image/jpeg":http://storage.ning.com/topology/rest/1.0/
 file/get/2247883227?profile=original
ATTENDEE;ROLE=REQ-PARTICIPANT;PARTSTAT=ACCEPTED;RSVP=TRUE;CN=philldfx:
 https://trueskool.com/profile/philldfx
ATTENDEE;ROLE=REQ-PARTICIPANT;PARTSTAT=ACCEPTED;RSVP=TRUE;CN="Aqueila 
 M. Lewis":https://trueskool.com/profile/AqueilaMLewis
ATTENDEE;ROLE=REQ-PARTICIPANT;PARTSTAT=ACCEPTED;RSVP=TRUE;CN="ZSA-ZSA 
 INC":https://trueskool.com/profile/ZSAZSAINC
END:VEVENT
END:VCALENDAR
