BEGIN:VCALENDAR
PRODID:NingEventWidget-v1
VERSION:2.0
METHOD:PUBLISH
BEGIN:VTIMEZONE
TZID:America/Los_Angeles
X-LIC-LOCATION:America/Los_Angeles
BEGIN:DAYLIGHT
TZOFFSETFROM:-0800
TZOFFSETTO:-0700
TZNAME:PDT
DTSTART:19700308T020000
RRULE:FREQ=YEARLY;BYMONTH=3;BYDAY=2SU
END:DAYLIGHT
BEGIN:STANDARD
TZOFFSETFROM:-0700
TZOFFSETTO:-0800
TZNAME:PST
DTSTART:19701101T020000
RRULE:FREQ=YEARLY;BYMONTH=11;BYDAY=1SU
END:STANDARD
END:VTIMEZONE
BEGIN:VEVENT
UID:1464587:Event:70851
DTSTAMP:20260421T002943Z
SUMMARY:HellKats Holiday Bash & Spinal Surgery Fundraiser
DESCRIPTION:This is a night to Support our very own family \"Jersey\" 
 Jenn who has been an integral part of the bay music scene for over 23 
 years here in the Bay.\nShe has to have Emergency Spinal Surgery on Mo
 n Dec 2nd & this fundraiser is a way for the community to come togethe
 r and show there support for her Please dont miss this event, its a ni
 ght you wont regret!\n\n\"HellKat's Holiday Bash and Spinal Surgery Fu
 nd Raiser and a variety show like no other and we will have a raffle a
 nd small silent auction\" its not only to raise money for Jersey since
  she needs to pay the medical bills for her surgery, it is also set to
  raise a sense of unity and compassion that has been missing from the 
 bay for too long. Please join us in helping raise the funds that are n
 eeded to cover medical bills and living expenses while she is out of w
 ork.\n\nThe night promises to be a beautiful melting pot of art, music
  and culture from the best that the bay has to offer. It will be a var
 iety show like none other that you will experience!\n\nMedical Donatio
 ns can currently be made @\nwww.PayPal.com\nwith the email address: ww
 w.JerseysSpinalSurgery@gmail.com\n\nFor more information visit https:/
 /trueskool.com/events/hellkats-holiday-bash-spinal
DTSTART;TZID=America/Los_Angeles:20101202T190000
DTEND;TZID=America/Los_Angeles:20101203T020000
CATEGORIES:san, fransinsco, ca
LOCATION:DNA Lounge
WEBSITE:http://<iframe width=\"425\" height=\"350\" frameborder=\"0\" 
 scrolling=\"no\" marginheight=\"0\" marginwidth=\"0\" src=\"http://map
 s.google.com/maps?f=q&amp;source=s_q&amp;hl=en&amp;geocode=&amp;q=dna+
 lounge+sf+ca&amp;sll=37.0625,-95.677068&amp;sspn=40.052282,78.134766&a
 mp;ie=UTF8&amp;hq=DNA+Lounge&amp;hnear=DNA+Lounge,+375+Eleventh+St,+Sa
 n+Francisco,+California+94103&amp;ll=37.770984,-122.412736&amp;spn=0.0
 39147,0.076303&amp;z=14&amp;iwloc=A&amp;cid=5950654901843674962&amp;ou
 tput=embed\"></iframe><br /><sma
URL:http://<iframe width=\"425\" height=\"350\" frameborder=\"0\" scro
 lling=\"no\" marginheight=\"0\" marginwidth=\"0\" src=\"http://maps.go
 ogle.com/maps?f=q&amp;source=s_q&amp;hl=en&amp;geocode=&amp;q=dna+loun
 ge+sf+ca&amp;sll=37.0625,-95.677068&amp;sspn=40.052282,78.134766&amp;i
 e=UTF8&amp;hq=DNA+Lounge&amp;hnear=DNA+Lounge,+375+Eleventh+St,+San+Fr
 ancisco,+California+94103&amp;ll=37.770984,-122.412736&amp;spn=0.03914
 7,0.076303&amp;z=14&amp;iwloc=A&amp;cid=5950654901843674962&amp;output
 =embed\"></iframe><br /><sma
CONTACT:415.756.5929
ORGANIZER:Jersey Jenn aka HellKat Productions
ATTACH;FMTTYPE="image/jpeg":http://storage.ning.com/topology/rest/1.0/
 file/get/2247886755?profile=original
ATTENDEE;ROLE=REQ-PARTICIPANT;PARTSTAT=ACCEPTED;RSVP=TRUE;CN="Jersey J
 enn":https://trueskool.com/profile/JerseyJenn
END:VEVENT
END:VCALENDAR
