BEGIN:VCALENDAR
PRODID:NingEventWidget-v1
VERSION:2.0
METHOD:PUBLISH
BEGIN:VTIMEZONE
TZID:America/Los_Angeles
X-LIC-LOCATION:America/Los_Angeles
BEGIN:DAYLIGHT
TZOFFSETFROM:-0800
TZOFFSETTO:-0700
TZNAME:PDT
DTSTART:19700308T020000
RRULE:FREQ=YEARLY;BYMONTH=3;BYDAY=2SU
END:DAYLIGHT
BEGIN:STANDARD
TZOFFSETFROM:-0700
TZOFFSETTO:-0800
TZNAME:PST
DTSTART:19701101T020000
RRULE:FREQ=YEARLY;BYMONTH=11;BYDAY=1SU
END:STANDARD
END:VTIMEZONE
BEGIN:VEVENT
UID:1464587:Event:273786
DTSTAMP:20260421T021755Z
SUMMARY:Hella Fresh Fest
DESCRIPTION:Zion I  Tribal Seeds  CunninLynguists  Plus guests, TBA
 !  Zion I: Human Being  Tribal Seeds: Vampire: Island Style  Cunnin
 lynguists: Lynguistics\n\nFor more information visit https://trueskool
 .com/events/hella-fresh-fest
DTSTART;TZID=America/Los_Angeles:20131122T200000
DTEND;TZID=America/Los_Angeles:20131123T010000
CATEGORIES:bay, area, oakland, san, francisco
LOCATION:DNA Lounge, San Francisco
WEBSITE:http://www.dnalounge.com/calendar/2013/11-22.html
URL:http://www.dnalounge.com/calendar/2013/11-22.html
CONTACT:5103508896
ORGANIZER:Ineffable Music Group
ATTACH;FMTTYPE="image/jpeg":http://storage.ning.com/topology/rest/1.0/
 file/get/2247951933?profile=original
ATTENDEE;ROLE=REQ-PARTICIPANT;PARTSTAT=ACCEPTED;RSVP=TRUE;CN="Jon Schr
 oeder":https://trueskool.com/profile/JonSchroeder
ATTENDEE;ROLE=REQ-PARTICIPANT;PARTSTAT=ACCEPTED;RSVP=TRUE;CN="Glara Za
 ndi":https://trueskool.com/profile/GlaraZandi
END:VEVENT
END:VCALENDAR
