BEGIN:VCALENDAR
PRODID:NingEventWidget-v1
VERSION:2.0
METHOD:PUBLISH
BEGIN:VTIMEZONE
TZID:America/Los_Angeles
X-LIC-LOCATION:America/Los_Angeles
BEGIN:DAYLIGHT
TZOFFSETFROM:-0800
TZOFFSETTO:-0700
TZNAME:PDT
DTSTART:19700308T020000
RRULE:FREQ=YEARLY;BYMONTH=3;BYDAY=2SU
END:DAYLIGHT
BEGIN:STANDARD
TZOFFSETFROM:-0700
TZOFFSETTO:-0800
TZNAME:PST
DTSTART:19701101T020000
RRULE:FREQ=YEARLY;BYMONTH=11;BYDAY=1SU
END:STANDARD
END:VTIMEZONE
BEGIN:VEVENT
UID:1464587:Event:31717
DTSTAMP:20260420T230417Z
SUMMARY:Heartbeat SF featuring DJ Vin Roc (Triple Threat DJs / 5th Pla
 toon)
DESCRIPTION:\n\nHeartbeat SF (1st Saturday of the Month)\nA Strictly B
 usiness Event\n\nSpecial Guest DJ:\nVin Roc (Triple Threat DJs / 5th P
 latoon)\n\nAlong with Resident DJ:\nGargamel (Heavyweights)\n\nspinnin
 g funk / soul / club classics\n\nUp and coming guest DJs and special g
 uest headliners. Stay tuned...\n\nLevende Lounge, 1710 Mission St., Sa
 n Francisco\nClean and fashionable attire\nEarly arrival suggested\nht
 tp://www.strictlybusinessproductions.com\nhttp://www.myspace.com/stric
 tlybusinessla\nInfo line: 562-760-7229\n\nFor more information visit h
 ttps://trueskool.com/events/heartbeat-sf-featuring-dj-vin
DTSTART;TZID=America/Los_Angeles:20090502T220000
DTEND;TZID=America/Los_Angeles:20090503T020000
CATEGORIES:soul, funk, club, classics
LOCATION:Levende Lounge, San Francisco, CA
WEBSITE:http://www.strictlybusinessproductions.com
URL:http://www.strictlybusinessproductions.com
CONTACT:562-760-7229
ORGANIZER:Strictly Business
ATTACH;FMTTYPE="image/jpeg":http://storage.ning.com/topology/rest/1.0/
 file/get/2106898069?profile=original
ATTENDEE;ROLE=REQ-PARTICIPANT;PARTSTAT=ACCEPTED;RSVP=TRUE;CN="Ren the 
 Vinyl Archaeologist":https://trueskool.com/profile/xh51jvilojur
END:VEVENT
END:VCALENDAR
