BEGIN:VCALENDAR
PRODID:NingEventWidget-v1
VERSION:2.0
METHOD:PUBLISH
BEGIN:VTIMEZONE
TZID:America/Los_Angeles
X-LIC-LOCATION:America/Los_Angeles
BEGIN:DAYLIGHT
TZOFFSETFROM:-0800
TZOFFSETTO:-0700
TZNAME:PDT
DTSTART:19700308T020000
RRULE:FREQ=YEARLY;BYMONTH=3;BYDAY=2SU
END:DAYLIGHT
BEGIN:STANDARD
TZOFFSETFROM:-0700
TZOFFSETTO:-0800
TZNAME:PST
DTSTART:19701101T020000
RRULE:FREQ=YEARLY;BYMONTH=11;BYDAY=1SU
END:STANDARD
END:VTIMEZONE
BEGIN:VEVENT
UID:1464587:Event:629001
DTSTAMP:20260422T104314Z
SUMMARY:Hardkiss | Delusions of Grandeur 20th Anniversary
DESCRIPTION:Hardkiss are performing the album Delusions of Grandeur Li
 ve for the first time together with David Christophere from Rabbit in
  the Moon with DJ support from our special guests DJ Three and Wish
 FM.\n\nWhat the press say about Delusions of Grandeur:\n\"As DJs, prod
 ucers, a label and remixers, Hardkiss are slicing a swathe through Hou
 se music's world consciousness with a sound and a style that combines 
 the dreamiest of psychedelia with the tightest and funkiest of breaks.
 \" - Mixmag Magazine\n\"... blissed out, tripped out, drugged out, sou
 l wrenching, uplifting, mindbending music.\" -URB\n\"Gatecrashing styl
 es and catapulting electronic music into the stratosphere.\" -Option M
 agazine\n\n\nFor more information visit https://trueskool.com/events/h
 ardkiss-delusions-of-grandeur-20th-anniversary
DTSTART;TZID=America/Los_Angeles:20150530T210000
DTEND;TZID=America/Los_Angeles:20150531T030000
CATEGORIES:san, francisco
LOCATION:Public Works
WEBSITE:http://delusionsofgrandeur.brownpapertickets.com/
URL:http://delusionsofgrandeur.brownpapertickets.com/
CONTACT:
ORGANIZER:Hardkiss Music
ATTACH;FMTTYPE="image/jpeg":http://storage.ning.com/topology/rest/1.0/
 file/get/2247977009?profile=original
ATTENDEE;ROLE=REQ-PARTICIPANT;PARTSTAT=ACCEPTED;RSVP=TRUE;CN="Gavin Ha
 rdkiss":https://trueskool.com/profile/GavinHardkiss
END:VEVENT
END:VCALENDAR
