BEGIN:VCALENDAR
PRODID:NingEventWidget-v1
VERSION:2.0
METHOD:PUBLISH
BEGIN:VTIMEZONE
TZID:America/Los_Angeles
X-LIC-LOCATION:America/Los_Angeles
BEGIN:DAYLIGHT
TZOFFSETFROM:-0800
TZOFFSETTO:-0700
TZNAME:PDT
DTSTART:19700308T020000
RRULE:FREQ=YEARLY;BYMONTH=3;BYDAY=2SU
END:DAYLIGHT
BEGIN:STANDARD
TZOFFSETFROM:-0700
TZOFFSETTO:-0800
TZNAME:PST
DTSTART:19701101T020000
RRULE:FREQ=YEARLY;BYMONTH=11;BYDAY=1SU
END:STANDARD
END:VTIMEZONE
BEGIN:VEVENT
UID:1464587:Event:31208
DTSTAMP:20260421T005832Z
SUMMARY:Hard Truth Soldiers Tour 2009 (Cancelled)
DESCRIPTION:Guerrilla Funk presents\nHard Truth Soldiers Tour 2009\n\n
 Featuring\nParis\n\nPete Rock\n\nPlanet Asia\nKam\nT-K.A.S.H.\nConscio
 us Daughters\n\nMezzanine\n444 Jessie Street @ Mint\nSan Francisco, Ca
 lifornia 94103\nDoors at 9 PM\nShow at 10 PM\n\n$15 VERY limited presa
 les\n$20 Advance\n$25 at the Door\n\nPresale tickets @ ticketweb.com\n
 \nFor more information visit https://trueskool.com/events/hard-truth-s
 oldiers-tour-2009
DTSTART;TZID=America/Los_Angeles:20090502T210000
DTEND;TZID=America/Los_Angeles:20090503T020000
CATEGORIES:hip, hop, conscious, political
LOCATION:Mezzanine
WEBSITE:http://www.ticketweb.com/user/?region=sfbay&query=schedule&ven
 ue=mezzanine&interface=mezzaninesf
URL:http://www.ticketweb.com/user/?region=sfbay&query=schedule&venue=m
 ezzanine&interface=mezzaninesf
CONTACT:
ORGANIZER:Mezzanine
ATTACH;FMTTYPE="image/jpeg":http://storage.ning.com/topology/rest/1.0/
 file/get/2247857063?profile=original
ATTENDEE;ROLE=REQ-PARTICIPANT;PARTSTAT=ACCEPTED;RSVP=TRUE;CN="Editor's
  Pick":https://trueskool.com/profile/RentheVinylArchaeologist
END:VEVENT
END:VCALENDAR
