BEGIN:VCALENDAR
PRODID:NingEventWidget-v1
VERSION:2.0
METHOD:PUBLISH
BEGIN:VTIMEZONE
TZID:America/Los_Angeles
X-LIC-LOCATION:America/Los_Angeles
BEGIN:DAYLIGHT
TZOFFSETFROM:-0800
TZOFFSETTO:-0700
TZNAME:PDT
DTSTART:19700308T020000
RRULE:FREQ=YEARLY;BYMONTH=3;BYDAY=2SU
END:DAYLIGHT
BEGIN:STANDARD
TZOFFSETFROM:-0700
TZOFFSETTO:-0800
TZNAME:PST
DTSTART:19701101T020000
RRULE:FREQ=YEARLY;BYMONTH=11;BYDAY=1SU
END:STANDARD
END:VTIMEZONE
BEGIN:VEVENT
UID:1464587:Event:31480
DTSTAMP:20260420T200202Z
SUMMARY:Hard Truth Soldiers Tour 2009
DESCRIPTION:With Legendary Hip Hop Artist Paris and\nPete Rock, Planet
  Asia, Conscious Daughters, Kam,\nT-K.A.S.H, Sellassie\n\nFor more inf
 ormation visit https://trueskool.com/events/hard-truth-soldiers-tour-2
 009-1
DTSTART;TZID=America/Los_Angeles:20090502T203000
DTEND;TZID=America/Los_Angeles:20090502T230000
CATEGORIES:hip, hop, concert
LOCATION:Mezzanine, San Francisco, CA
WEBSITE:http://www.InHouseTalent.com
URL:http://www.InHouseTalent.com
CONTACT:
ORGANIZER:Guerrilla Funk
ATTACH;FMTTYPE="image/jpeg":http://storage.ning.com/topology/rest/1.0/
 file/get/2247857269?profile=original
ATTENDEE;ROLE=REQ-PARTICIPANT;PARTSTAT=ACCEPTED;RSVP=TRUE;CN="Inhouse 
 Talent":https://trueskool.com/profile/InhouseTalent
END:VEVENT
END:VCALENDAR
