BEGIN:VCALENDAR
PRODID:NingEventWidget-v1
VERSION:2.0
METHOD:PUBLISH
BEGIN:VTIMEZONE
TZID:America/Los_Angeles
X-LIC-LOCATION:America/Los_Angeles
BEGIN:DAYLIGHT
TZOFFSETFROM:-0800
TZOFFSETTO:-0700
TZNAME:PDT
DTSTART:19700308T020000
RRULE:FREQ=YEARLY;BYMONTH=3;BYDAY=2SU
END:DAYLIGHT
BEGIN:STANDARD
TZOFFSETFROM:-0700
TZOFFSETTO:-0800
TZNAME:PST
DTSTART:19701101T020000
RRULE:FREQ=YEARLY;BYMONTH=11;BYDAY=1SU
END:STANDARD
END:VTIMEZONE
BEGIN:VEVENT
UID:1464587:Event:661686
DTSTAMP:20260422T181331Z
SUMMARY:HAPPY HOUR
DESCRIPTION:Join us after work and wind down with a tasty cocktail, ic
 e cold specialty beer, or select from our extensive whiskey collection
  for something neat or on the rocks.Monday | 5-7PMTuesday | 5-7PMWedne
 sday | All NightThursday | 5-7PMFriday | 4-7PM\n\nFor more information
  visit https://trueskool.com/events/happy-hour
DTSTART;TZID=America/Los_Angeles:20170421T160000
DTEND;TZID=America/Los_Angeles:20170421T190000
CATEGORIES:"san francisco", soma, "financial district"
LOCATION:JohnColins, San Francisco, CA
WEBSITE:http://johncolins.com/
URL:http://johncolins.com/
CONTACT:
ORGANIZER;CN=JohnColins:https://trueskool.com/profile/JohnColins27
ATTACH;FMTTYPE="image/jpeg":http://storage.ning.com/topology/rest/1.0/
 file/get/2248001477?profile=original
ATTENDEE;ROLE=REQ-PARTICIPANT;PARTSTAT=ACCEPTED;RSVP=TRUE;CN=JohnColin
 s:https://trueskool.com/profile/JohnColins27
END:VEVENT
END:VCALENDAR
